Workbook
Name ___JHY1: [1]!___JHY1
Name ___JHY2: [1]!___JHY2
Name ___LKS1: [1]!___LKS1
Name ___LKS2: [1]!___LKS2
Name __DemandLoad: TRUE
Name __JHY1: [1]!__JHY1
Name __JHY2: [1]!__JHY2
Name __LKS1: [1]!__LKS1
Name __LKS2: [1]!__LKS2
Name __sh2: [5]SG!$A$1:$G$961
Name _15A: [7]금액내역서!$D$3:$D$10
Name _30신설일위대가: '[8]30신설일위대가'!$A$4:$M$1603
Name _40총괄: '[9]40총괄'!$A$4:$O$76
Name _B2: '[10]단면 (2)'!$K$55
Name _B22: [11]일위대가!$A$1400:$IV$1413=[11]일위대가!$A$1400
Name _F45: [13]수량3!$F$48
Name _HSH1: [14]Sheet1!$F$40
Name _HSH2: [14]Sheet1!$F$41
Name _JHY1: [1]!_JHY1
Name _JHY2: [1]!_JHY2
Name _K02: [11]일위대가!$A$732:$IV$745=[11]일위대가!$A$732
Name _LKS1: [1]!_LKS1
Name _LKS2: [1]!_LKS2
Name _NP1: [14]Sheet1!$F$57
Name _NP2: [14]Sheet1!$F$58
Name _NSH1: [14]Sheet1!$L$40
Name _NSH2: [14]Sheet1!$L$41
Name _O03: [11]일위대가!$A$1516:$IV$1529=[11]일위대가!$A$1516
Name _RD5: [17]교각계산!$K$86
Name _tt1: "tt1"
Name \P1: '[18]#REF'!$M$16:$M$18
Name A: 원가계산서!A
Name A: 원가계산서!A
Name A0: #REF!,#REF!,#REF!,#REF!,#REF!
Name AA: #REF!,#REF!
Name AAAA: 원가계산서!AAAAA
Name AAAA: AAAAA
Name AAAAA: 원가계산서!AAAAA
Name AAAAA: 원가계산서!AAAAA
Name AADD: [20]단가산출!$B$4:$AG$49903
Name AAW: 원가계산서!SAF
Name AAW: [1]!SAF
Name AAWF: '[21]ABUT수량-A1'!$T$25
Name aer: #REF!,#REF!
Name aervbgr: 원가계산서!EGERG
Name aervbgr: [1]!EGERG
Name AHN: #REF!,#REF!
Name AJSL: 원가계산서!ㅗㅠㅎㄹ
Name AJSL: [1]!ㅗㅠㅎㄹ
Name aqaq: '[25]ABUT수량-A1'!$T$25
Name ARE: 원가계산서!ARE
Name ARE: 원가계산서!ARE
Name AREA1: [26]집수정!$B$27:$L$32
Name AREA2: [26]집수정!$B$37:$L$42
Name asd: 원가계산서!REEG
Name asd: [1]!REEG
Name ASPHALT: [28]진주방향!$AS$348
Name ASS: 원가계산서!TRR
Name ASS: [1]!TRR
Name asss: 원가계산서!jhg

Sheet 원가계산서
A1: 공 사 원 가 계 산 서
A2: 공사명 : | B2: 가톨릭관동대학교 국제성모병원 직장어린이집 설치공사
A3: 비 목 | D3: 공 사 금 액 | E3: 구 성 비 | G3: 비 고
A4: 순 공 사 원 가 | B4: 재 료 비 | C4: 직 접 재 료 비 | D4: =집계표!G29 -> 0
C5: 작업설, 부산물(△) | D5: 0
C6: [ 소 계 ] | D6: =SUM(D4-D5) -> 0
B7: 노무비 | C7: 직 접 노 무 비 | D7: =집계표!I29 -> 0
C8: 간 접 노 무 비 | D8: =TRUNC(D7*F8, 0) -> 0 | E8: 직접노무비 * | F8: 0.08 | G8: 6개월이하, 10억 미만
C9: [ 소 계 ] | D9: =TRUNC((D7+D8),0) -> 0
B10: 직 접 공 사 비 계 | D10: =D9+D6 -> 0
B11: 경 비 | C11: 기 계 경 비 | D11: =집계표!K29 -> 0
C12: 산 재 보 험 료 | D12: =TRUNC(D9*F12,0) -> 0 | E12: 노무비 * | F12: 0.0356 | G12: 공통사항
C13: 고 용 보 험 료 | D13: =TRUNC(D9*F13,0) -> 0 | E13: 노무비 * | F13: 0.0101 | G13: 7등급 미만
C14: 국 민 건 강 보 험 료 | D14: =TRUNC(D7*F14,0) -> 0 | E14: 직접노무비 * | F14: 0.03595 | G14: 1개월 이상 공통
C15: 국 민 연 금 보 험 료 | D15: =TRUNC(D7*F15,0) -> 0 | E15: 직접노무비 * | F15: 0.0475 | G15: 1개월 이상 공통
C16: 퇴 직 공 제 부 금 비 | D16: =TRUNC(D7*F16,0) -> 0 | E16: 직접노무비 * | F16: 0 | G16: 1개월 이상 공통
C17: 노 인 장 기 요 양 보 험 료 | D17: =TRUNC(D14*F17,0) -> 0 | E17: 건강보험료 * | F17: 0 | G17: 1개월 이상 공통
C18: 산 업 안 전 보 건 관 리 비 | D18: =TRUNC((D6+D7)*F18,0) -> 0 | E18: (재료비+직접노무비) * | F18: 0.0311 | G18: 5억 미만
C19: 기 타 경 비 | D19: =TRUNC((D6+D9)*F19,0) -> 0 | E19: (재료비+노무비) * | F19: 0.046 | G19: 6개월이하, 50억 미만
C20: [ 소 계 ] | D20: =SUM(D11:D19) -> 0
A21: 계 | D21: =TRUNC(D6+D9+D20,0) -> 0
A22: 일 반 관 리 비 | D22: =TRUNC(D21*F22,0) -> 0 | E22: (재료비+노무비+경비)* | G22: 5억 미만
A23: 이 윤 | D23: =TRUNC((D9+D20+D22)*F23,0) -> 0 | E23: (노무비+경비+일반관리비)* | G23: 50억 미만
A24: 단 위 절 사 | G24: 십만단위 절사
A25: 공 급 가 액 | D25: =SUM(D21:D24) -> 0 | G25: VAT 별도
A26: 총 공 사 비 | D26: =D25 -> 0

Sheet 집계표
A1: NO | B1: 품명 | C1: 규격 | D1: 단위 | E1: 수량 | F1: 자재비 | H1: 노무비 | J1: 경비 | L1: 합계 | N1: 비고
F2: 단가 | G2: 금액 | H2: 단가 | I2: 금액 | J2: 단가 | K2: 금액 | L2: 단가 | M2: 금액
B3: =원가계산서!B2 -> 가톨릭관동대학교 국제성모병원 직장어린이집 설치공사
A4: 1 | B4: 인테리어공사 | D4: 식 | E4: 1 | G4: =인테리어내역서!H33 -> 0 | I4: =인테리어내역서!J33 -> 0 | K4: =인테리어내역서!L33 -> 0 | M4: =G4+I4+K4 -> 0
B29: S U B T O T A L | G29: =SUM(G4:G28) -> 0 | I29: =SUM(I4:I28) -> 0 | K29: =SUM(K4:K28) -> 0 | M29: =SUM(M4:M28) -> 0

Sheet 인테리어내역서
B1: NO | C1: 품명 | D1: 규격 | E1: 단위 | F1: 수량 | G1: 자재비 | I1: 노무비 | K1: 경비 | M1: 합계 | O1: 비고
G2: 단가 | H2: 금액 | I2: 단가 | J2: 금액 | K2: 단가 | L2: 금액 | M2: 단가 | N2: 금액
B3: A | C3: 인테리어 공사
B4: 1 | C4: =C35 -> 공통가설공사 | E4: 식 | F4: 1 | H4: =H48 -> 0 | J4: =J48 -> 0 | L4: =L48 -> 0 | N4: =N48 -> 0
B5: 2 | C5: =C50 -> 철거공사 | E5: 식 | F5: 1 | H5: =H75 -> 0 | J5: =J75 -> 0 | L5: =L75 -> 0 | N5: =N75 -> 0
B6: 3 | C6: 공통공사 | E6: 식 | F6: 1 | H6: =H95 -> 0 | J6: =J95 -> 0 | L6: =L95 -> 0 | N6: =N95 -> 0
B7: 4 | C7: =C97 -> 실별마감공사 | E7: 식 | F7: 1 | H7: =H108 -> 0 | J7: =J108 -> 0 | L7: =L108 -> 0 | N7: =N108 -> 0
B8: 5 | C8: =C412 -> 가구공사 | E8: 식 | F8: 1 | H8: =H458 -> 0 | J8: =J458 -> 0 | L8: =L458 -> 0 | N8: =N458 -> 0
B9: 6 | C9: =C460 -> 창호공사 | E9: 식 | F9: 1 | H9: =H490 -> 0 | J9: =J490 -> 0 | L9: =L490 -> 0 | N9: =N490 -> 0
B10: 7 | C10: =C492 -> 기타공사 | E10: 식 | F10: 1 | H10: =H516 -> 0 | J10: =J516 -> 0 | L10: =L516 -> 0 | N10: =N516 -> 0
B11: 8 | C11: =C518 -> 사인공사 | E11: 식 | F11: 1 | H11: =H542 -> 0 | J11: =J542 -> 0 | L11: =L542 -> 0 | N11: =N542 -> 0
C33: 합 계 | H33: =SUM(H4:H32) -> 0 | J33: =SUM(J4:J32) -> 0 | L33: =SUM(L4:L32) -> 0 | N33: =SUM(N4:N32) -> 0
B35: 1 | C35: 공통가설공사
C36: 현장사무실 개설 | D36: 3개월 | E36: 개월 | F36: 3 | H36: =TRUNC(G36*F36) -> 0 | J36: =TRUNC(I36*F36) -> 0 | L36: =TRUNC(K36*F36) -> 0 | M36: =K36+I36+G36 -> 0 | N36: =L36+J36+H36 -> 0
C37: 가설칸막이 | D37: 도어 포함 | E37: M2 | F37: 45.6 | H37: =TRUNC(G37*F37) -> 0 | J37: =TRUNC(I37*F37) -> 0 | L37: =TRUNC(K37*F37) -> 0 | M37: =K37+I37+G37 -> 0 | N37: =L37+J37+H37 -> 0
C38: 현장 정리 정돈 | E38: M2 | F38: 235.15 | H38: =TRUNC(G38*F38) -> 0 | J38: =TRUNC(I38*F38) -> 0 | L38: =TRUNC(K38*F38) -> 0 | M38: =K38+I38+G38 -> 0 | N38: =L38+J38+H38 -> 0
C39: 현장보양 | E39: M2 | F39: 235.15 | H39: =TRUNC(G39*F39) -> 0 | J39: =TRUNC(I39*F39) -> 0 | L39: =TRUNC(K39*F39) -> 0 | M39: =K39+I39+G39 -> 0 | N39: =L39+J39+H39 -> 0
C40: 먹매김 | D40: . | E40: M2 | F40: 235.15 | H40: =TRUNC(G40*F40) -> 0 | J40: =TRUNC(I40*F40) -> 0 | L40: =TRUNC(K40*F40) -> 0 | M40: =K40+I40+G40 -> 0 | N40: =L40+J40+H40 -> 0
C41: 방염 | D41: . | E41: M2 | F41: 235.15 | H41: =TRUNC(G41*F41) -> 0 | J41: =TRUNC(I41*F41) -> 0 | L41: =TRUNC(K41*F41) -> 0 | M41: =K41+I41+G41 -> 0 | N41: =L41+J41+H41 -> 0
C42: 준공청소 | E42: M2 | F42: 235.15 | H42: =TRUNC(G42*F42) -> 0 | J42: =TRUNC(I42*F42) -> 0 | L42: =TRUNC(K42*F42) -> 0 | M42: =K42+I42+G42 -> 0 | N42: =L42+J42+H42 -> 0
C43: 내부 수평 비계 | E43: M2 | F43: 235.15 | H43: =TRUNC(G43*F43) -> 0 | J43: =TRUNC(I43*F43) -> 0 | L43: =TRUNC(K43*F43) -> 0 | M43: =K43+I43+G43 -> 0 | N43: =L43+J43+H43 -> 0
C44: 자재 소운반 | E44: M2 | F44: 235.15 | H44: =TRUNC(G44*F44) -> 0 | J44: =TRUNC(I44*F44) -> 0 | L44: =TRUNC(K44*F44) -> 0 | M44: =K44+I44+G44 -> 0 | N44: =L44+J44+H44 -> 0
C45: 자재 대운반 | E45: M2 | F45: 235.15 | H45: =TRUNC(G45*F45) -> 0 | J45: =TRUNC(I45*F45) -> 0 | L45: =TRUNC(K45*F45) -> 0 | M45: =K45+I45+G45 -> 0 | N45: =L45+J45+H45 -> 0
C46: 폐자재 처리 | D46: 2.5톤 혼합 | E46: 대 | F46: 3 | H46: =TRUNC(G46*F46) -> 0 | J46: =TRUNC(I46*F46) -> 0 | L46: =TRUNC(K46*F46) -> 0 | M46: =K46+I46+G46 -> 0 | N46: =L46+J46+H46 -> 0
C48: 합 계 | H48: =SUM(H36:H47) -> 0 | J48: =SUM(J36:J47) -> 0 | L48: =SUM(L36:L47) -> 0 | N48: =SUM(N36:N47) -> 0
B50: 2 | C50: 철거공사
B51: F | C51: 바닥공사
C52: P-tile 철거 | D52: 3T | E52: M2 | F52: 232.4945 | H52: =TRUNC(G52*F52) -> 0 | J52: =TRUNC(I52*F52) -> 0 | L52: =TRUNC(K52*F52) -> 0 | M52: =K52+I52+G52 -> 0 | N52: =L52+J52+H52 -> 0
C53: 몰탈 철거 | D53: H:50 | E53: M2 | F53: 36.6402 | H53: =TRUNC(G53*F53) -> 0 | J53: =TRUNC(I53*F53) -> 0 | L53: =TRUNC(K53*F53) -> 0 | M53: =K53+I53+G53 -> 0 | N53: =L53+J53+H53 -> 0
C54: 타일 철거 | E54: M2 | F54: 2.6555 | H54: =TRUNC(G54*F54) -> 0 | J54: =TRUNC(I54*F54) -> 0 | L54: =TRUNC(K54*F54) -> 0 | M54: =K54+I54+G54 -> 0 | N54: =L54+J54+H54 -> 0
C55: 도기 철거 | D55: 양변기 세면대 | E55: 개소 | F55: 1 | H55: =TRUNC(G55*F55) -> 0 | J55: =TRUNC(I55*F55) -> 0 | L55: =TRUNC(K55*F55) -> 0 | M55: =K55+I55+G55 -> 0 | N55: =L55+J55+H55 -> 0
B57: W | C57: 벽체공사
C58: 경량벽체 철거 | D58: 단면 | E58: M2 | F58: 221.49 | H58: =TRUNC(G58*F58) -> 0 | J58: =TRUNC(I58*F58) -> 0 | L58: =TRUNC(K58*F58) -> 0 | M58: =K58+I58+G58 -> 0 | N58: =L58+J58+H58 -> 0
C59: 경량벽체 철거 | D59: 양면 | E59: M2 | F59: 280.1795 | H59: =TRUNC(G59*F59) -> 0 | J59: =TRUNC(I59*F59) -> 0 | L59: =TRUNC(K59*F59) -> 0 | M59: =K59+I59+G59 -> 0 | N59: =L59+J59+H59 -> 0
C60: 단열재 철거 | E60: M2 | F60: 501.67 | H60: =TRUNC(G60*F60) -> 0 | J60: =TRUNC(I60*F60) -> 0 | L60: =TRUNC(K60*F60) -> 0 | M60: =K60+I60+G60 -> 0 | N60: =L60+J60+H60 -> 0
C61: 도어/프레임 철거 | E61: 개소 | F61: 7 | H61: =TRUNC(G61*F61) -> 0 | J61: =TRUNC(I61*F61) -> 0 | L61: =TRUNC(K61*F61) -> 0 | M61: =K61+I61+G61 -> 0 | N61: =L61+J61+H61 -> 0
C62: 콘크리트 벽체 철거 | D62: 부분철거 | E62: M2 | F62: 4.0325 | H62: =TRUNC(G62*F62) -> 0 | J62: =TRUNC(I62*F62) -> 0 | L62: =TRUNC(K62*F62) -> 0 | M62: =K62+I62+G62 -> 0 | N62: =L62+J62+H62 -> 0
C63: 커튼월 철거 | D63: 유리포함 | E63: M | F63: 6.05 | H63: =TRUNC(G63*F63) -> 0 | J63: =TRUNC(I63*F63) -> 0 | L63: =TRUNC(K63*F63) -> 0 | M63: =K63+I63+G63 -> 0 | N63: =L63+J63+H63 -> 0
C64: 기존 난간대 철거 | D64: 첲제 | E64: M2 | F64: 8.33 | H64: =TRUNC(G64*F64) -> 0 | J64: =TRUNC(I64*F64) -> 0 | L64: =TRUNC(K64*F64) -> 0 | M64: =K64+I64+G64 -> 0 | N64: =L64+J64+H64 -> 0
C65: 붙박이장 철거 | E65: 식 | F65: 1 | H65: =TRUNC(G65*F65) -> 0 | J65: =TRUNC(I65*F65) -> 0 | L65: =TRUNC(K65*F65) -> 0 | M65: =K65+I65+G65 -> 0 | N65: =L65+J65+H65 -> 0
B67: C | C67: 천정공사
C68: TAX철거 | D68: 기존층고 2,950 / LGS 포함 | E68: M2 | F68: 235.15 | H68: =TRUNC(G68*F68) -> 0 | J68: =TRUNC(I68*F68) -> 0 | L68: =TRUNC(K68*F68) -> 0 | M68: =K68+I68+G68 -> 0 | N68: =L68+J68+H68 -> 0
C69: 조명기구 철거 | D69: 매입등 | E69: EA | F69: 32 | H69: =TRUNC(G69*F69) -> 0 | J69: =TRUNC(I69*F69) -> 0 | L69: =TRUNC(K69*F69) -> 0 | M69: =K69+I69+G69 -> 0 | N69: =L69+J69+H69 -> 0
C71: 공통
C72: 폐기물 운반 | E72: 인 | F72: 9 | H72: =TRUNC(G72*F72) -> 0 | J72: =TRUNC(I72*F72) -> 0 | L72: =TRUNC(K72*F72) -> 0 | M72: =K72+I72+G72 -> 0 | N72: =L72+J72+H72 -> 0
C73: 폐기물 처리 | D73: 2.5T 혼합 | E73: 대 | F73: 7 | H73: =TRUNC(G73*F73) -> 0 | J73: =TRUNC(I73*F73) -> 0 | L73: =TRUNC(K73*F73) -> 0 | M73: =K73+I73+G73 -> 0 | N73: =L73+J73+H73 -> 0
C75: 합 계 | H75: =SUM(H52:H70) -> 0 | J75: =SUM(J52:J73) -> 0 | L75: =SUM(L52:L73) -> 0 | N75: =SUM(N52:N73) -> 0
B77: 3 | C77: 공통공사
B78: F | C78: 바닥공사
C79: 몰탈 타설 | D79: H:35 | E79: M2 | F79: 182.58 | H79: =TRUNC(G79*F79) -> 0 | J79: =TRUNC(I79*F79) -> 0 | L79: =TRUNC(K79*F79) -> 0 | M79: =K79+I79+G79 -> 0 | N79: =L79+J79+H79 -> 0
C80: 몰탈 타설 | D80: H:40 | E80: M2 | F80: 13.73 | H80: =TRUNC(G80*F80) -> 0 | J80: =TRUNC(I80*F80) -> 0 | L80: =TRUNC(K80*F80) -> 0 | M80: =K80+I80+G80 -> 0 | N80: =L80+J80+H80 -> 0
C81: 몰탈 타설 | D81: H:170 | E81: M2 | F81: 15.87 | H81: =TRUNC(G81*F81) -> 0 | J81: =TRUNC(I81*F81) -> 0 | L81: =TRUNC(K81*F81) -> 0 | M81: =K81+I81+G81 -> 0 | N81: =L81+J81+H81 -> 0
C82: 압출법 보온판 | D82: THK:50MM | E82: M2 | F82: 15.103 | H82: =TRUNC(G82*F82) -> 0 | J82: =TRUNC(I82*F82) -> 0 | L82: =TRUNC(K82*F82) -> 0 | M82: =K82+I82+G82 -> 0 | N82: =L82+J82+H82 -> 0
C83: 압출법 보온판 | D83: THK:100MM | E83: M2 | F83: 17.457 | H83: =TRUNC(G83*F83) -> 0 | J83: =TRUNC(I83*F83) -> 0 | L83: =TRUNC(K83*F83) -> 0 | M83: =K83+I83+G83 -> 0 | N83: =L83+J83+H83 -> 0
B85: W | C85: 벽체공사
C86: METAL STUD | D86: 65형 | E86: M2 | F86: 319.40422 | H86: =TRUNC(G86*F86) -> 0 | J86: =TRUNC(I86*F86) -> 0 | L86: =TRUNC(K86*F86) -> 0 | M86: =K86+I86+G86 -> 0 | N86: =L86+J86+H86 -> 0
C87: METAL STUD | D87: 100형 | E87: M2 | F87: 416.93925 | H87: =TRUNC(G87*F87) -> 0 | J87: =TRUNC(I87*F87) -> 0 | L87: =TRUNC(K87*F87) -> 0 | M87: =K87+I87+G87 -> 0 | N87: =L87+J87+H87 -> 0
C88: 각파이프 구조틀 | D88: ㅁ50*50 / ROUND 포함 | E88: M2 | F88: 66.67689 | H88: =TRUNC(G88*F88) -> 0 | J88: =TRUNC(I88*F88) -> 0 | L88: =TRUNC(K88*F88) -> 0 | M88: =K88+I88+G88 -> 0 | N88: =L88+J88+H88 -> 0
C89: 석고보드 | D89: THK:9.5MM / 2PLY | E89: M2 | F89: 622.3126 | H89: =TRUNC(G89*F89) -> 0 | J89: =TRUNC(I89*F89) -> 0 | L89: =TRUNC(K89*F89) -> 0 | M89: =K89+I89+G89 -> 0 | N89: =L89+J89+H89 -> 0
C90: 석고보드 | D90: THK:9.5MM / 1PLY | E90: M2 | F90: 42.0525 | H90: =TRUNC(G90*F90) -> 0 | J90: =TRUNC(I90*F90) -> 0 | L90: =TRUNC(K90*F90) -> 0 | M90: =K90+I90+G90 -> 0 | N90: =L90+J90+H90 -> 0
C91: 하지합판 | D91: THK:8.5MM / 1PLY | E91: M2 | F91: 42.0525 | H91: =TRUNC(G91*F91) -> 0 | J91: =TRUNC(I91*F91) -> 0 | L91: =TRUNC(K91*F91) -> 0 | M91: =K91+I91+G91 -> 0 | N91: =L91+J91+H91 -> 0
C92: 인슐레이션 | D92: 50T 24K | E92: M2 | F92: 803.02 | H92: =TRUNC(G92*F92) -> 0 | J92: =TRUNC(I92*F92) -> 0 | L92: =TRUNC(K92*F92) -> 0 | M92: =K92+I92+G92 -> 0 | N92: =L92+J92+H92 -> 0
C93: ROUND 코너비드 | D93: 50R | E93: M | F93: 30.8 | H93: =TRUNC(G93*F93) -> 0 | J93: =TRUNC(I93*F93) -> 0 | L93: =TRUNC(K93*F93) -> 0 | M93: =K93+I93+G93 -> 0 | N93: =L93+J93+H93 -> 0
C95: 합 계 | H95: =SUM(H79:H94) -> 0 | J95: =SUM(J79:J94) -> 0 | L95: =SUM(L79:L94) -> 0 | N95: =SUM(N79:N94) -> 0
B97: 4 | C97: 실별마감공사
B98: 4-1 | C98: =C109 -> 현관/파사드 | E98: 식 | H98: =H143 -> 0 | J98: =J143 -> 0 | L98: =L143 -> 0 | N98: =N143 -> 0
B99: 4-2 | C99: =C144 -> 원장실 | E99: 식 | H99: =H169 -> 0 | J99: =J169 -> 0 | L99: =L169 -> 0 | N99: =N169 -> 0
B100: 4-3 | C100: =C171 -> 유희홀/복도 | E100: 식 | H100: =H234 -> 0 | J100: =J234 -> 0 | L100: =L234 -> 0 | N100: =N234 -> 0
B101: 4-4 | C101: =C236 -> 교사실 | E101: 식 | H101: =H260 -> 0 | J101: =J260 -> 0 | L101: =L260 -> 0 | N101: =N260 -> 0
B102: 4-5 | C102: =C262 -> 보육실-1 | E102: 식 | H102: =H289 -> 0 | J102: =J289 -> 0 | L102: =L289 -> 0 | N102: =N289 -> 0
B103: 4-6 | C103: =C291 -> 보육실-2 | E103: 식 | H103: =H318 -> 0 | J103: =J318 -> 0 | L103: =L318 -> 0 | N103: =N318 -> 0
B104: 4-7 | C104: =C320 -> 보육실-3 | E104: 식 | H104: =H347 -> 0 | J104: =J347 -> 0 | L104: =L347 -> 0 | N104: =N347 -> 0
B105: 4-8 | C105: =C349 -> 공용화장실 / 세탁실 | E105: 식 | H105: =H386 -> 0 | J105: =J386 -> 0 | L105: =L386 -> 0 | N105: =N386 -> 0
B106: 4-9 | C106: =C388 -> 조리실 | E106: 식 | H106: =H410 -> 0 | J106: =J410 -> 0 | L106: =L410 -> 0 | N106: =N410 -> 0
C108: 합 계 | H108: =SUM(H98:H107) -> 0 | J108: =SUM(J98:J107) -> 0 | L108: =SUM(L98:L107) -> 0 | N108: =SUM(N98:N107) -> 0
B109: =B98 -> 4-1 | C109: 현관/파사드 | D109: H:2,800
B110: F | C110: 바닥공사
C111: 붙임몰탈 | E111: M2 | F111: 3.44694 | H111: =TRUNC(G111*F111) -> 0 | J111: =TRUNC(I111*F111) -> 0 | L111: =TRUNC(K111*F111) -> 0 | M111: =G111+I111+K111 -> 0 | N111: =H111+J111+L111 -> 0
C112: 타일 | D112: TL-01 | E112: M2 | F112: 3.2828 | H112: =TRUNC(G112*F112) -> 0 | J112: =TRUNC(I112*F112) -> 0 | L112: =TRUNC(K112*F112) -> 0 | M112: =G112+I112+K112 -> 0 | N112: =H112+J112+L112 -> 0
C113: 타일 깔기 | E113: M2 | F113: 3.44694 | H113: =TRUNC(G113*F113) -> 0 | J113: =TRUNC(I113*F113) -> 0 | L113: =TRUNC(K113*F113) -> 0 | M113: =G113+I113+K113 -> 0 | N113: =H113+J113+L113 -> 0
C114: 코르크메트 | E114: M2 | F114: 3.05923 | H114: =TRUNC(G114*F114) -> 0 | J114: =TRUNC(I114*F114) -> 0 | L114: =TRUNC(K114*F114) -> 0 | M114: =G114+I114+K114 -> 0 | N114: =H114+J114+L114 -> 0
C115: 코르크메트 깔기 | E115: M2 | F115: 2.6602 | H115: =TRUNC(G115*F115) -> 0 | J115: =TRUNC(I115*F115) -> 0 | L115: =TRUNC(K115*F115) -> 0 | M115: =G115+I115+K115 -> 0 | N115: =H115+J115+L115 -> 0
C116: SPHERA | D116: SP-02 | E116: M2 | F116: 3.05923 | H116: =TRUNC(G116*F116) -> 0 | J116: =TRUNC(I116*F116) -> 0 | L116: =TRUNC(K116*F116) -> 0 | M116: =G116+I116+K116 -> 0 | N116: =H116+J116+L116 -> 0
C117: SPHERA 깔기 | E117: M2 | F117: 2.6602 | H117: =TRUNC(G117*F117) -> 0 | J117: =TRUNC(I117*F117) -> 0 | L117: =TRUNC(K117*F117) -> 0 | M117: =G117+I117+K117 -> 0 | N117: =H117+J117+L117 -> 0
C118: 재료분리대 | D118: SST'L | E118: M | F118: 1.2 | H118: =TRUNC(G118*F118) -> 0 | J118: =TRUNC(I118*F118) -> 0 | L118: =TRUNC(K118*F118) -> 0 | M118: =G118+I118+K118 -> 0 | N118: =H118+J118+L118 -> 0
C119: 재료분리대 | D119: 인조대리석 | E119: M | F119: 2.83 | H119: =TRUNC(G119*F119) -> 0 | J119: =TRUNC(I119*F119) -> 0 | L119: =TRUNC(K119*F119) -> 0 | M119: =G119+I119+K119 -> 0 | N119: =H119+J119+L119 -> 0
B121: W | C121: 벽체공사
C122: ALL PUTTY | E122: M2 | F122: 18.804 | H122: =TRUNC(G122*F122) -> 0 | J122: =TRUNC(I122*F122) -> 0 | L122: =TRUNC(K122*F122) -> 0 | M122: =G122+I122+K122 -> 0 | N122: =H122+J122+L122 -> 0
C123: 친환경페인트 | D123: PA-02 | E123: M2 | F123: 18.804 | H123: =TRUNC(G123*F123) -> 0 | J123: =TRUNC(I123*F123) -> 0 | L123: =TRUNC(K123*F123) -> 0 | M123: =G123+I123+K123 -> 0 | N123: =H123+J123+L123 -> 0
C124: 백페인트 글라스 | D124: GL-03 | E124: M2 | F124: 5.74 | H124: =TRUNC(G124*F124) -> 0 | J124: =TRUNC(I124*F124) -> 0 | L124: =TRUNC(K124*F124) -> 0 | M124: =G124+I124+K124 -> 0 | N124: =H124+J124+L124 -> 0
C125: 은경 | D125: GL-01 | E125: M2 | F125: 1.9125 | H125: =TRUNC(G125*F125) -> 0 | J125: =TRUNC(I125*F125) -> 0 | L125: =TRUNC(K125*F125) -> 0 | M125: =G125+I125+K125 -> 0 | N125: =H125+J125+L125 -> 0
C126: AL 몰딩 | D126: 10+10 | E126: M | F126: 8.53 | H126: =TRUNC(G126*F126) -> 0 | J126: =TRUNC(I126*F126) -> 0 | L126: =TRUNC(K126*F126) -> 0 | M126: =G126+I126+K126 -> 0 | N126: =H126+J126+L126 -> 0
C127: 도장 걸레받이 | D127: THK:9MM MDF 위 도장 / PA-02 | E127: M | F127: 8.53 | H127: =TRUNC(G127*F127) -> 0 | J127: =TRUNC(I127*F127) -> 0 | L127: =TRUNC(K127*F127) -> 0 | M127: =G127+I127+K127 -> 0 | N127: =H127+J127+L127 -> 0
C128: 유리난간대 | D128: MT-01+강화유리 THK:12MM / H:1,250 | E128: M | F128: 12.96 | H128: =TRUNC(G128*F128) -> 0 | J128: =TRUNC(I128*F128) -> 0 | L128: =TRUNC(K128*F128) -> 0 | M128: =G128+I128+K128 -> 0 | N128: =H128+J128+L128 -> 0
C129: 신규커트월주변 방수,단열공사 | E129: 식 | F129: 1 | H129: =TRUNC(G129*F129) -> 0 | J129: =TRUNC(I129*F129) -> 0 | L129: =TRUNC(K129*F129) -> 0 | M129: =G129+I129+K129 -> 0 | N129: =H129+J129+L129 -> 0
C130: 기존바닥재 보수공사 | E130: 식 | F130: 1 | H130: =TRUNC(G130*F130) -> 0 | J130: =TRUNC(I130*F130) -> 0 | L130: =TRUNC(K130*F130) -> 0 | M130: =G130+I130+K130 -> 0 | N130: =H130+J130+L130 -> 0
B132: C | C132: 천정공사
C133: 경량철골천정틀 | D133: M-BAR | E133: M2 | F133: 7.0455 | H133: =TRUNC(G133*F133) -> 0 | J133: =TRUNC(I133*F133) -> 0 | L133: =TRUNC(K133*F133) -> 0 | M133: =G133+I133+K133 -> 0 | N133: =H133+J133+L133 -> 0
C134: 석고보드 | D134: THK:9.5MM / 1PLY | E134: M2 | F134: 7.0455 | H134: =TRUNC(G134*F134) -> 0 | J134: =TRUNC(I134*F134) -> 0 | L134: =TRUNC(K134*F134) -> 0 | M134: =G134+I134+K134 -> 0 | N134: =H134+J134+L134 -> 0
C135: 석고보드 | D135: THK:12.5MM / 1PLY | E135: M2 | F135: 7.0455 | H135: =TRUNC(G135*F135) -> 0 | J135: =TRUNC(I135*F135) -> 0 | L135: =TRUNC(K135*F135) -> 0 | M135: =G135+I135+K135 -> 0 | N135: =H135+J135+L135 -> 0
...
