Workbook
Name ___JHY1: [1]!___JHY1
Name ___JHY2: [1]!___JHY2
Name ___LKS1: [1]!___LKS1
Name ___LKS2: [1]!___LKS2
Name __DemandLoad: TRUE
Name __JHY1: [1]!__JHY1
Name __JHY2: [1]!__JHY2
Name __LKS1: [1]!__LKS1
Name __LKS2: [1]!__LKS2
Name __sh2: [5]SG!$A$1:$G$961
Name _15A: [7]금액내역서!$D$3:$D$10
Name _30신설일위대가: '[8]30신설일위대가'!$A$4:$M$1603
Name _40총괄: '[9]40총괄'!$A$4:$O$76
Name _B2: '[10]단면 (2)'!$K$55
Name _B22: [11]일위대가!$A$1400:$IV$1413=[11]일위대가!$A$1400
Name _F45: [13]수량3!$F$48
Name _HSH1: [14]Sheet1!$F$40
Name _HSH2: [14]Sheet1!$F$41
Name _JHY1: [1]!_JHY1
Name _JHY2: [1]!_JHY2
Name _K02: [11]일위대가!$A$732:$IV$745=[11]일위대가!$A$732
Name _LKS1: [1]!_LKS1
Name _LKS2: [1]!_LKS2
Name _NP1: [14]Sheet1!$F$57
Name _NP2: [14]Sheet1!$F$58
Name _NSH1: [14]Sheet1!$L$40
Name _NSH2: [14]Sheet1!$L$41
Name _O03: [11]일위대가!$A$1516:$IV$1529=[11]일위대가!$A$1516
Name _RD5: [17]교각계산!$K$86
Name _tt1: "tt1"
Name \P1: '[18]#REF'!$M$16:$M$18
Name A: 원가계산서!A
Name A: 원가계산서!A
Name A0: #REF!,#REF!,#REF!,#REF!,#REF!
Name AA: #REF!,#REF!
Name AAAA: 원가계산서!AAAAA
Name AAAA: AAAAA
Name AAAAA: 원가계산서!AAAAA
Name AAAAA: 원가계산서!AAAAA
Name AADD: [20]단가산출!$B$4:$AG$49903
Name AAW: 원가계산서!SAF
Name AAW: [1]!SAF
Name AAWF: '[21]ABUT수량-A1'!$T$25
Name aer: #REF!,#REF!
Name aervbgr: 원가계산서!EGERG
Name aervbgr: [1]!EGERG
Name AHN: #REF!,#REF!
Name AJSL: 원가계산서!ㅗㅠㅎㄹ
Name AJSL: [1]!ㅗㅠㅎㄹ
Name aqaq: '[25]ABUT수량-A1'!$T$25
Name ARE: 원가계산서!ARE
Name ARE: 원가계산서!ARE
Name AREA1: [26]집수정!$B$27:$L$32
Name AREA2: [26]집수정!$B$37:$L$42
Name asd: 원가계산서!REEG
Name asd: [1]!REEG
Name ASPHALT: [28]진주방향!$AS$348
Name ASS: 원가계산서!TRR
Name ASS: [1]!TRR
Name asss: 원가계산서!jhg

Sheet 원가계산서
A1: 공 사 원 가 계 산 서
A2: 공사명 : | B2: 가톨릭관동대학교 국제성모병원 직장어린이집 설치공사
A3: 비 목 | D3: 공 사 금 액 | E3: 구 성 비 | G3: 비 고
A4: 순 공 사 원 가 | B4: 재 료 비 | C4: 직 접 재 료 비 | D4: =집계표!G29 -> 0
C5: 작업설, 부산물(△) | D5: 0
C6: [ 소 계 ] | D6: =SUM(D4-D5) -> 0
B7: 노무비 | C7: 직 접 노 무 비 | D7: =집계표!I29 -> 0
C8: 간 접 노 무 비 | D8: =TRUNC(D7*F8, 0) -> 0 | E8: 직접노무비 * | F8: 0.08 | G8: 6개월이하, 10억 미만
C9: [ 소 계 ] | D9: =TRUNC((D7+D8),0) -> 0
B10: 직 접 공 사 비 계 | D10: =D9+D6 -> 0
B11: 경 비 | C11: 기 계 경 비 | D11: =집계표!K29 -> 0
C12: 산 재 보 험 료 | D12: =TRUNC(D9*F12,0) -> 0 | E12: 노무비 * | F12: 0.0356 | G12: 공통사항
C13: 고 용 보 험 료 | D13: =TRUNC(D9*F13,0) -> 0 | E13: 노무비 * | F13: 0.0101 | G13: 7등급 미만
C14: 국 민 건 강 보 험 료 | D14: =TRUNC(D7*F14,0) -> 0 | E14: 직접노무비 * | F14: 0.03595 | G14: 1개월 이상 공통
C15: 국 민 연 금 보 험 료 | D15: =TRUNC(D7*F15,0) -> 0 | E15: 직접노무비 * | F15: 0.0475 | G15: 1개월 이상 공통
C16: 퇴 직 공 제 부 금 비 | D16: =TRUNC(D7*F16,0) -> 0 | E16: 직접노무비 * | F16: 0 | G16: 1개월 이상 공통
C17: 노 인 장 기 요 양 보 험 료 | D17: =TRUNC(D14*F17,0) -> 0 | E17: 건강보험료 * | F17: 0 | G17: 1개월 이상 공통
C18: 산 업 안 전 보 건 관 리 비 | D18: =TRUNC((D6+D7)*F18,0) -> 0 | E18: (재료비+직접노무비) * | F18: 0.0311 | G18: 5억 미만
C19: 기 타 경 비 | D19: =TRUNC((D6+D9)*F19,0) -> 0 | E19: (재료비+노무비) * | F19: 0.046 | G19: 6개월이하, 50억 미만
C20: [ 소 계 ] | D20: =SUM(D11:D19) -> 0
A21: 계 | D21: =TRUNC(D6+D9+D20,0) -> 0
A22: 일 반 관 리 비 | D22: =TRUNC(D21*F22,0) -> 0 | E22: (재료비+노무비+경비)* | G22: 5억 미만
A23: 이 윤 | D23: =TRUNC((D9+D20+D22)*F23,0) -> 0 | E23: (노무비+경비+일반관리비)* | G23: 50억 미만
A24: 단 위 절 사 | G24: 십만단위 절사
A25: 공 급 가 액 | D25: =SUM(D21:D24) -> 0 | G25: VAT 별도
A26: 총 공 사 비 | D26: =D25 -> 0

Sheet 집계표
A1: NO | B1: 품명 | C1: 규격 | D1: 단위 | E1: 수량 | F1: 자재비 | H1: 노무비 | J1: 경비 | L1: 합계 | N1: 비고
F2: 단가 | G2: 금액 | H2: 단가 | I2: 금액 | J2: 단가 | K2: 금액 | L2: 단가 | M2: 금액
B3: =원가계산서!B2 -> 가톨릭관동대학교 국제성모병원 직장어린이집 설치공사
A4: 1 | B4: 인테리어공사 | D4: 식 | E4: 1 | G4: =인테리어내역서!H33 -> 0 | I4: =인테리어내역서!J33 -> 0 | K4: =인테리어내역서!L33 -> 0 | M4: =G4+I4+K4 -> 0
B29: S U B T O T A L | G29: =SUM(G4:G28) -> 0 | I29: =SUM(I4:I28) -> 0 | K29: =SUM(K4:K28) -> 0 | M29: =SUM(M4:M28) -> 0

Sheet 인테리어내역서
B1: NO | C1: 품명 | D1: 규격 | E1: 단위 | F1: 수량 | G1: 자재비 | I1: 노무비 | K1: 경비 | M1: 합계 | O1: 비고
G2: 단가 | H2: 금액 | I2: 단가 | J2: 금액 | K2: 단가 | L2: 금액 | M2: 단가 | N2: 금액
B3: A | C3: 인테리어 공사
B4: 1 | C4: =C35 -> 공통가설공사 | E4: 식 | F4: 1 | H4: =H48 -> 0 | J4: =J48 -> 0 | L4: =L48 -> 0 | N4: =N48 -> 0
B5: 2 | C5: =C50 -> 철거공사 | E5: 식 | F5: 1 | H5: =H75 -> 0 | J5: =J75 -> 0 | L5: =L75 -> 0 | N5: =N75 -> 0
B6: 3 | C6: 공통공사 | E6: 식 | F6: 1 | H6: =H95 -> 0 | J6: =J95 -> 0 | L6: =L95 -> 0 | N6: =N95 -> 0
B7: 4 | C7: =C97 -> 실별마감공사 | E7: 식 | F7: 1 | H7: =H108 -> 0 | J7: =J108 -> 0 | L7: =L108 -> 0 | N7: =N108 -> 0
B8: 5 | C8: =C412 -> 가구공사 | E8: 식 | F8: 1 | H8: =H458 -> 0 | J8: =J458 -> 0 | L8: =L458 -> 0 | N8: =N458 -> 0
B9: 6 | C9: =C460 -> 창호공사 | E9: 식 | F9: 1 | H9: =H490 -> 0 | J9: =J490 -> 0 | L9: =L490 -> 0 | N9: =N490 -> 0
B10: 7 | C10: =C492 -> 기타공사 | E10: 식 | F10: 1 | H10: =H516 -> 0 | J10: =J516 -> 0 | L10: =L516 -> 0 | N10: =N516 -> 0
B11: 8 | C11: =C518 -> 사인공사 | E11: 식 | F11: 1 | H11: =H542 -> 0 | J11: =J542 -> 0 | L11: =L542 -> 0 | N11: =N542 -> 0
C33: 합 계 | H33: =SUM(H4:H32) -> 0 | J33: =SUM(J4:J32) -> 0 | L33: =SUM(L4:L32) -> 0 | N33: =SUM(N4:N32) -> 0
B35: 1 | C35: 공통가설공사
C36: 현장사무실 개설 | D36: 3개월 | E36: 개월 | F36: 3 | H36: =TRUNC(G36*F36) -> 0 | J36: =TRUNC(I36*F36) -> 0 | L36: =TRUNC(K36*F36) -> 0 | M36: =K36+I36+G36 -> 0 | N36: =L36+J36+H36 -> 0
C37: 가설칸막이 | D37: 도어 포함 | E37: M2 | F37: 45.6 | H37: =TRUNC(G37*F37) -> 0 | J37: =TRUNC(I37*F37) -> 0 | L37: =TRUNC(K37*F37) -> 0 | M37: =K37+I37+G37 -> 0 | N37: =L37+J37+H37 -> 0
C38: 현장 정리 정돈 | E38: M2 | F38: 235.15 | H38: =TRUNC(G38*F38) -> 0 | J38: =TRUNC(I38*F38) -> 0 | L38: =TRUNC(K38*F38) -> 0 | M38: =K38+I38+G38 -> 0 | N38: =L38+J38+H38 -> 0
C39: 현장보양 | E39: M2 | F39: 235.15 | H39: =TRUNC(G39*F39) -> 0 | J39: =TRUNC(I39*F39) -> 0 | L39: =TRUNC(K39*F39) -> 0 | M39: =K39+I39+G39 -> 0 | N39: =L39+J39+H39 -> 0
C40: 먹매김 | D40: . | E40: M2 | F40: 235.15 | H40: =TRUNC(G40*F40) -> 0 | J40: =TRUNC(I40*F40) -> 0 | L40: =TRUNC(K40*F40) -> 0 | M40: =K40+I40+G40 -> 0 | N40: =L40+J40+H40 -> 0
C41: 방염 | D41: . | E41: M2 | F41: 235.15 | H41: =TRUNC(G41*F41) -> 0 | J41: =TRUNC(I41*F41) -> 0 | L41: =TRUNC(K41*F41) -> 0 | M41: =K41+I41+G41 -> 0 | N41: =L41+J41+H41 -> 0
C42: 준공청소 | E42: M2 | F42: 235.15 | H42: =TRUNC(G42*F42) -> 0 | J42: =TRUNC(I42*F42) -> 0 | L42: =TRUNC(K42*F42) -> 0 | M42: =K42+I42+G42 -> 0 | N42: =L42+J42+H42 -> 0
C43: 내부 수평 비계 | E43: M2 | F43: 235.15 | H43: =TRUNC(G43*F43) -> 0 | J43: =TRUNC(I43*F43) -> 0 | L43: =TRUNC(K43*F43) -> 0 | M43: =K43+I43+G43 -> 0 | N43: =L43+J43+H43 -> 0
C44: 자재 소운반 | E44: M2 | F44: 235.15 | H44: =TRUNC(G44*F44) -> 0 | J44: =TRUNC(I44*F44) -> 0 | L44: =TRUNC(K44*F44) -> 0 | M44: =K44+I44+G44 -> 0 | N44: =L44+J44+H44 -> 0
C45: 자재 대운반 | E45: M2 | F45: 235.15 | H45: =TRUNC(G45*F45) -> 0 | J45: =TRUNC(I45*F45) -> 0 | L45: =TRUNC(K45*F45) -> 0 | M45: =K45+I45+G45 -> 0 | N45: =L45+J45+H45 -> 0
C46: 폐자재 처리 | D46: 2.5톤 혼합 | E46: 대 | F46: 3 | H46: =TRUNC(G46*F46) -> 0 | J46: =TRUNC(I46*F46) -> 0 | L46: =TRUNC(K46*F46) -> 0 | M46: =K46+I46+G46 -> 0 | N46: =L46+J46+H46 -> 0
C48: 합 계 | H48: =SUM(H36:H47) -> 0 | J48: =SUM(J36:J47) -> 0 | L48: =SUM(L36:L47) -> 0 | N48: =SUM(N36:N47) -> 0
B50: 2 | C50: 철거공사
B51: F | C51: 바닥공사
C52: P-tile 철거 | D52: 3T | E52: M2 | F52: 232.4945 | H52: =TRUNC(G52*F52) -> 0 | J52: =TRUNC(I52*F52) -> 0 | L52: =TRUNC(K52*F52) -> 0 | M52: =K52+I52+G52 -> 0 | N52: =L52+J52+H52 -> 0
C53: 몰탈 철거 | D53: H:50 | E53: M2 | F53: 36.6402 | H53: =TRUNC(G53*F53) -> 0 | J53: =TRUNC(I53*F53) -> 0 | L53: =TRUNC(K53*F53) -> 0 | M53: =K53+I53+G53 -> 0 | N53: =L53+J53+H53 -> 0
C54: 타일 철거 | E54: M2 | F54: 2.6555 | H54: =TRUNC(G54*F54) -> 0 | J54: =TRUNC(I54*F54) -> 0 | L54: =TRUNC(K54*F54) -> 0 | M54: =K54+I54+G54 -> 0 | N54: =L54+J54+H54 -> 0
C55: 도기 철거 | D55: 양변기 세면대 | E55: 개소 | F55: 1 | H55: =TRUNC(G55*F55) -> 0 | J55: =TRUNC(I55*F55) -> 0 | L55: =TRUNC(K55*F55) -> 0 | M55: =K55+I55+G55 -> 0 | N55: =L55+J55+H55 -> 0
B57: W | C57: 벽체공사
C58: 경량벽체 철거 | D58: 단면 | E58: M2 | F58: 221.49 | H58: =TRUNC(G58*F58) -> 0 | J58: =TRUNC(I58*F58) -> 0 | L58: =TRUNC(K58*F58) -> 0 | M58: =K58+I58+G58 -> 0 | N58: =L58+J58+H58 -> 0
C59: 경량벽체 철거 | D59: 양면 | E59: M2 | F59: 280.1795 | H59: =TRUNC(G59*F59) -> 0 | J59: =TRUNC(I59*F59) -> 0 | L59: =TRUNC(K59*F59) -> 0 | M59: =K59+I59+G59 -> 0 | N59: =L59+J59+H59 -> 0
C60: 단열재 철거 | E60: M2 | F60: 501.67 | H60: =TRUNC(G60*F60) -> 0 | J60: =TRUNC(I60*F60) -> 0 | L60: =TRUNC(K60*F60) -> 0 | M60: =K60+I60+G60 -> 0 | N60: =L60+J60+H60 -> 0
C61: 도어/프레임 철거 | E61: 개소 | F61: 7 | H61: =TRUNC(G61*F61) -> 0 | J61: =TRUNC(I61*F61) -> 0 | L61: =TRUNC(K61*F61) -> 0 | M61: =K61+I61+G61 -> 0 | N61: =L61+J61+H61 -> 0
C62: 콘크리트 벽체 철거 | D62: 부분철거 | E62: M2 | F62: 4.0325 | H62: =TRUNC(G62*F62) -> 0 | J62: =TRUNC(I62*F62) -> 0 | L62: =TRUNC(K62*F62) -> 0 | M62: =K62+I62+G62 -> 0 | N62: =L62+J62+H62 -> 0
C63: 커튼월 철거 | D63: 유리포함 | E63: M | F63: 6.05 | H63: =TRUNC(G63*F63) -> 0 | J63: =TRUNC(I63*F63) -> 0 | L63: =TRUNC(K63*F63) -> 0 | M63: =K63+I63+G63 -> 0 | N63: =L63+J63+H63 -> 0
C64: 기존 난간대 철거 | D64: 첲제 | E64: M2 | F64: 8.33 | H64: =TRUNC(G64*F64) -> 0 | J64: =TRUNC(I64*F64) -> 0 | L64: =TRUNC(K64*F64) -> 0 | M64: =K64+I64+G64 -> 0 | N64: =L64+J64+H64 -> 0
C65: 붙박이장 철거 | E65: 식 | F65: 1 | H65: =TRUNC(G65*F65) -> 0 | J65: =TRUNC(I65*F65) -> 0 | L65: =TRUNC(K65*F65) -> 0 | M65: =K65+I65+G65 -> 0 | N65: =L65+J65+H65 -> 0
...
