Workbook
Name __a1: #REF!
Name __a1: #REF!
Name __a100000: #REF!
Name __a100000: #REF!
Name __A183154: #REF!
Name __A183154: #REF!
Name __a80000: #REF!
Name __a80000: #REF!
Name __AHU1: #REF!
Name __AHU1: #REF!
Name __AHU2: #REF!
Name __AHU2: #REF!
Name __AHU3: #REF!
Name __AHU3: #REF!
Name __AHU4: #REF!
Name __AHU4: #REF!
Name __AHU5: #REF!
Name __AHU5: #REF!
Name __AHU6: #REF!
Name __AHU6: #REF!
Name __AHU7: #REF!
Name __AHU7: #REF!
Name __AHU8: #REF!
Name __AHU8: #REF!
Name __bv3: BlankMacro1
Name __bv3: BlankMacro1
Name __CDT2: #REF!
Name __CDT2: #REF!
Name __ddd1: #REF!
Name __ddd1: #REF!
Name __DOG1: #REF!
Name __DOG1: #REF!
Name __DOG2: #REF!
Name __DOG2: #REF!
Name __DOG3: #REF!
Name __DOG3: #REF!
Name __DOG4: #REF!
Name __DOG4: #REF!
Name __K1: #REF!
Name __K1: #REF!
Name __K2: #REF!
Name __K2: #REF!
Name __K3: #REF!
Name __K3: #REF!
Name __K5: #REF!
Name __K5: #REF!
Name __K6: #REF!
Name __K6: #REF!
Name __LL1: #REF!
Name __LL1: #REF!
Name __LL2: #REF!
Name __LL2: #REF!
Name __LL3: #REF!
Name __LL3: #REF!
Name __LL4: #REF!
Name __LL4: #REF!
Name __LL5: #REF!
Name __LL5: #REF!
Name __LP1: #REF!
Name __LP1: #REF!

Sheet 원가계산서 (2)
A1: 공 사 원 가 계 산 서
A2: 공 사 명 : 국제성모병원 외래진료센터 변경 설비공사
A3: 구 분 | E3: 산 출 방 법 | H3: 금 액 | I3: 비 고
A5: 1. 순공사 원가 | E5: [가+나+다] | H5: =H6+H8+H11 -> 0
B6: 가. 재료비 | H6: =H7 -> 0
C7: 가-1. 직접재료비 | H7: =집계표!H58 -> 0
B8: 나. 노무비 | H8: =H9+H10 -> 0
C9: 나-1. 직접노무비 | H9: =집계표!J58 -> 0
C10: 나-2. 간접노무비 | E10: [나1] 의 | G10: 0.126 | H10: =H9*G10 -> 0
B11: 다. 경비 | H11: =H12+H13+H14+H15+H16+H17+H18+H19+H23+H24+H25+H26+H27 -> 0
C12: 다-1. 산출경비 | H12: =집계표!L58 -> 0
C13: 다-2. 산재보험료 | E13: [나] 의 | G13: 0.0356 | H13: =H8*G13 -> 0
C14: 다-3. 고용보험료 | E14: [나] 의 | G14: 0.0101 | H14: =H8*G14 -> 0
C15: 다-4. 국민건강보험료 | E15: [나1] 의 | G15: 0.03545 | H15: =H9*G15 -> 0
C16: 다-5. 노인장기요양보험료 | E16: [다4] 의 | G16: 0.1295 | H16: =INT(H15*G16) -> 0
C17: 다-6. 국민연금보험료 | E17: [나1] 의 | G17: 0.045 | H17: =H9*G17 -> 0
C18: 다-7. 퇴직공제부금비 | E18: [나1] 의 | G18: 0.023 | H18: =H9*G18 -> 0
C19: 다-8. 산업안전보건관리비 | E19: ※ 관급포함시 : ⓑ와ⓒ 비교후 적은금액 적용 | H19: =H22 -> 0
D20: ⓐ.일반의경우 | E20: [가+나1] 의 | F20: 0.0311 | H20: =(H7+H9)*F20+G20 -> 0
D21: ⓑ.ⓐ의 1.2배 | H21: =H20*1.2 -> 0
D22: ⓒ.관급자재대 포함 | E22: [가+나1+관급자재대] 의 | F22: 0.0311 | H22: =(H6+H9+H37/1.1)*F22+G22 -> 0
C23: 다-9. 기타경비 | E23: [가+나] 의 | G23: 0.046 | H23: =(H6+H8)*G23 -> 0
C24: 다-10. 공사이행보증서 발급수수료 | E24: ([가+나1+다1] 의-140억원*0.019%)*공기(년)
C25: 다-11. 하도급 대금 지급보증서 발급수수료 | E25: [가+나1+다1] 의 | G25: 0.00081 | H25: =(H6+H9+H12)*G25 -> 0
C26: 다-12. 건설기계대여대금지급보증서발급금액 | E26: [가+나1+다1] 의 | G26: 0.0016 | H26: =(H6+H9+H12)*G26 -> 0
C27: 다-13. 환경보전비 | E27: [가+나1+다1] 의 | G27: 0.003 | H27: =(H6+H9+H12)*G27 -> 0
A28: 2. 일 반 관 리 비 | E28: [1] 의 | G28: 0.08 | H28: =H5*G28 -> 0
A29: 3. 이 윤 | E29: [나+다+2]의 | G29: 0.15 | H29: =(H8+H11+H28)*G29/1.1 -> 0
A30: 4. T. A. B 공 사
A31: 5. 총 원 가 | E31: [1+2+3+4] | H31: =(H5+H28+H29+H30) -> 0
A32: 6. 부 가 가 치 세 | E32: [5]의 | G32: 0.1 | H32: =H31*G32 -> 0
A33: 7. 총 계 | E33: [5+6] | H33: =H31+H32 -> 0
A34: 8. 건설 폐기물 처리비
A35: 9. 시 설 분 담 금 | H35: =[1]공종별총괄표!L29 -> 0
A36: 조 사 금 액 | H36: =H33+H34+H35 -> 0
A37: 관급자재대(도급자관급) | H37: =[1]공종별총괄표!L15 -> 0
A38: 관급자재대(관급자관급) | H38: =[1]공종별총괄표!L22 -> 0
A39: 총 공 사 비 | H39: =H36+H37+H38 -> 0

Sheet 집계표
C1: 집 계 표
C2: =#REF! -> #REF!
A3: 공종 | B3: 코드 | C3: 품 명 | D3: 규 격 | E3: 단위 | F3: 수량 | G3: 재 료 비 | I3: 노 무 비 | K3: 경 비 | M3: 합 계 | O3: 비고
G4: 단가 | H4: 금액 | I4: 단가 | J4: 금액 | K4: 단가 | L4: 금액 | M4: 단가 | N4: 금액
C5: =내역서!A5 -> 1. 뇌신경센터이전 | H5: =SUM(H6:H8) -> 0 | J5: =SUM(J6:J8) -> 0 | L5: =SUM(L6:L8) -> 0 | N5: =SUM(N6:N8) -> 0
C6: =내역서!A6 -> 01. 기구류 철거공사(위생,공조) | E6: 식 | F6: 1 | H6: =SUM(내역서!F17) -> 0 | J6: =SUM(내역서!H17) -> 0 | L6: =SUM(내역서!J17) -> 0 | N6: =SUM(내역서!L17) -> 0
C7: =내역서!A18 -> 02. 위생기구류 설치및 배관공사 | E7: 식 | F7: 1 | H7: =내역서!F28 -> 0 | J7: =내역서!H28 -> 0 | L7: =내역서!J28 -> 0 | N7: =내역서!L28 -> 0
C8: =내역서!A29 -> 03 공조용 급,배기덕트 설치공사 | E8: 식 | F8: 1 | H8: =SUM(내역서!F39) -> 0 | J8: =SUM(내역서!H39) -> 0 | L8: =SUM(내역서!J39) -> 0 | N8: =SUM(내역서!L39) -> 0
C9: =내역서!A41 -> 3. 여성센터 | E9: 식 | F9: 1 | H9: =SUM(H10:H16) -> 0 | J9: =SUM(J10:J16) -> 0 | L9: =SUM(L10:L16) -> 0 | N9: =SUM(N10:N16) -> 0
C10: =내역서!A42 -> 01. 기구류 철거공사(위생,공조) | E10: 식 | F10: 1 | H10: =SUM(내역서!F53) -> 0 | J10: =SUM(내역서!H53) -> 0 | L10: =SUM(내역서!J53) -> 0 | N10: =SUM(내역서!L53) -> 0
C11: =내역서!A54 -> 02. 위생기구류 설치공사 | E11: 식 | F11: 1 | H11: =SUM(내역서!F67) -> 0 | J11: =SUM(내역서!H67) -> 0 | L11: =SUM(내역서!J67) -> 0 | N11: =SUM(내역서!L67) -> 0
C12: =내역서!A68 -> 03 급수급탕및 오배수배관공사 | E12: 식 | F12: 1 | H12: =SUM(내역서!F82) -> 0 | J12: =SUM(내역서!H82) -> 0 | L12: =SUM(내역서!J82) -> 0 | N12: =SUM(내역서!L82) -> 0
C13: =내역서!A84 -> 04-1 EHP 기기 장비류 | E13: 식 | F13: 1 | H13: =SUM(내역서!F100) -> 0 | J13: =SUM(내역서!H100) -> 0 | L13: =SUM(내역서!J100) -> 0 | N13: =SUM(내역서!L100) -> 0
C14: =내역서!A101 -> 04-2 EHP 설치 공사류 | E14: 식 | F14: 1 | H14: =SUM(내역서!F125) -> 0 | J14: =SUM(내역서!H125) -> 0 | L14: =SUM(내역서!J125) -> 0 | N14: =SUM(내역서!L125) -> 0
C15: =내역서!A126 -> 04-3 EHP 설치 자동제어 시설공사(방재실 운영) | E15: 식 | F15: 1 | H15: =SUM(내역서!F134) -> 0 | J15: =SUM(내역서!H134) -> 0 | L15: =SUM(내역서!J134) -> 0 | N15: =SUM(내역서!L134) -> 0
C16: =내역서!A135 -> 05. 공조용 급,배기덕트 설치공사 | E16: 식 | F16: 1 | H16: =SUM(내역서!F145) -> 0 | J16: =SUM(내역서!H145) -> 0 | L16: =SUM(내역서!J145) -> 0 | N16: =SUM(내역서!L145) -> 0
C17: =내역서!A147 -> 4. 정신건강의학과 | E17: 식 | F17: 1 | H17: =SUM(H18:H24) -> 0 | J17: =SUM(J18:J24) -> 0 | L17: =SUM(L18:L24) -> 0 | N17: =SUM(N18:N24) -> 0
C18: =내역서!A148 -> 01. 기구류 철거공사(위생,공조) | E18: 식 | F18: 1 | H18: =SUM(내역서!F158) -> 0 | J18: =SUM(내역서!H158) -> 0 | L18: =SUM(내역서!J158) -> 0 | N18: =SUM(내역서!L158) -> 0
C19: =내역서!A159 -> 02. 위생기구류 설치공사 | E19: 식 | F19: 1 | H19: =SUM(내역서!F168) -> 0 | J19: =SUM(내역서!H168) -> 0 | L19: =SUM(내역서!J168) -> 0 | N19: =SUM(내역서!L168) -> 0
C20: =내역서!A169 -> 03. 급수급탕및 오배수배관공사 | E20: 식 | F20: 1 | H20: =SUM(내역서!F183) -> 0 | J20: =SUM(내역서!H183) -> 0 | L20: =SUM(내역서!J183) -> 0 | N20: =SUM(내역서!L183) -> 0
C21: =내역서!A184 -> 04. 공조용 급,배기덕트 설치공사 | E21: 식 | F21: 1 | H21: =SUM(내역서!F193) -> 0 | J21: =SUM(내역서!H193) -> 0 | L21: =SUM(내역서!J193) -> 0 | N21: =SUM(내역서!L193) -> 0
C22: =내역서!A194 -> 05-1 EHP 이전설치 | E22: 식 | F22: 1 | H22: =내역서!F201 -> 0 | J22: =내역서!H201 -> 0 | L22: =내역서!J201 -> 0 | N22: =내역서!L201 -> 0
C23: =내역서!A202 -> 05-2 EHP 이전설치 공사류 | E23: 식 | F23: 1 | H23: =내역서!F226 -> 0 | J23: =내역서!H226 -> 0 | L23: =내역서!J226 -> 0 | N23: =내역서!L226 -> 0
C24: =내역서!A227 -> 05-3 EHP 설치 자동제어 시설공사(방재실 운영) | E24: 식 | F24: 1 | H24: =내역서!F235 -> 0 | J24: =내역서!H235 -> 0 | L24: =내역서!J235 -> 0 | N24: =내역서!L235 -> 0
C25: =내역서!A237 -> 5. 비뇨의학과 | E25: 식 | F25: 1 | H25: =SUM(H26:H32) -> 0 | J25: =SUM(J26:J32) -> 0 | L25: =SUM(L26:L32) -> 0 | N25: =SUM(N26:N32) -> 0
C26: =내역서!A238 -> 01. 기구류 철거공사(위생,공조) | E26: 식 | F26: 1 | H26: =SUM(내역서!F248) -> 0 | J26: =SUM(내역서!H248) -> 0 | L26: =SUM(내역서!J248) -> 0 | N26: =SUM(내역서!L248) -> 0
C27: =내역서!A249 -> 02. 위생기구류 설치공사 | E27: 식 | F27: 1 | H27: =SUM(내역서!F260) -> 0 | J27: =SUM(내역서!H260) -> 0 | L27: =SUM(내역서!J260) -> 0 | N27: =SUM(내역서!L260) -> 0
C28: =내역서!A261 -> 03 급수급탕및 오배수배관공사 | E28: 식 | F28: 1 | H28: =SUM(내역서!F275) -> 0 | J28: =SUM(내역서!H275) -> 0 | L28: =SUM(내역서!J275) -> 0 | N28: =SUM(내역서!L275) -> 0
C29: =내역서!A276 -> 04. 공조용 급,배기덕트 설치공사 | E29: 식 | F29: 1 | H29: =SUM(내역서!F286) -> 0 | J29: =SUM(내역서!H286) -> 0 | L29: =SUM(내역서!J286) -> 0 | N29: =SUM(내역서!L286) -> 0
C30: =내역서!A287 -> 05-1 EHP 이전.신규설치 | E30: 식 | F30: 1 | H30: =내역서!F297 -> 0 | J30: =내역서!H297 -> 0 | L30: =내역서!J297 -> 0 | N30: =내역서!L297 -> 0
C31: =내역서!A298 -> 05-2 EHP 이전.신규 설치 공사류 | E31: 식 | F31: 1 | H31: =내역서!F322 -> 0 | J31: =내역서!H322 -> 0 | L31: =내역서!J322 -> 0 | N31: =내역서!L322 -> 0
C32: =내역서!A323 -> 05-3 EHP 설치 자동제어 시설공사(방재실 운영) | E32: 식 | F32: 1 | H32: =내역서!F331 -> 0 | J32: =내역서!H331 -> 0 | L32: =내역서!J331 -> 0 | N32: =내역서!L331 -> 0
C33: =내역서!A333 -> 6. 통증클리닉 | E33: 식 | F33: 1 | H33: =SUM(H34:H40) -> 0 | J33: =SUM(J34:J40) -> 0 | L33: =SUM(L34:L40) -> 0 | N33: =SUM(N34:N40) -> 0
C34: =내역서!A334 -> 01. 기구류 철거공사(위생,공조) | E34: 식 | F34: 1 | H34: =SUM(내역서!F346) -> 0 | J34: =SUM(내역서!H346) -> 0 | L34: =SUM(내역서!J346) -> 0 | N34: =SUM(내역서!L346) -> 0
C35: =내역서!A347 -> 02. 위생기구류 설치공사 | E35: 식 | F35: 1 | H35: =SUM(내역서!F358) -> 0 | J35: =SUM(내역서!H358) -> 0 | L35: =SUM(내역서!J358) -> 0 | N35: =SUM(내역서!L358) -> 0
C36: =내역서!A359 -> 03 급수급탕및 오배수배관공사 | E36: 식 | F36: 1 | H36: =SUM(내역서!F373) -> 0 | J36: =SUM(내역서!H373) -> 0 | L36: =SUM(내역서!J373) -> 0 | N36: =SUM(내역서!L373) -> 0
C37: =내역서!A374 -> 04. 공조용 급,배기덕트 설치공사 | E37: 식 | F37: 1 | H37: =SUM(내역서!F385) -> 0 | J37: =SUM(내역서!H385) -> 0 | L37: =SUM(내역서!J385) -> 0 | N37: =SUM(내역서!L385) -> 0
C38: =내역서!A386 -> 05-1 EHP 이전.신규설치 | E38: 식 | F38: 1 | H38: =내역서!F396 -> 0 | J38: =내역서!H396 -> 0 | L38: =내역서!J396 -> 0 | N38: =내역서!L396 -> 0
C39: =내역서!A397 -> 05-2 EHP 이전.신규 설치 공사류 | E39: 식 | F39: 1 | H39: =내역서!F421 -> 0 | J39: =내역서!H421 -> 0 | L39: =내역서!J421 -> 0 | N39: =내역서!L421 -> 0
C40: =내역서!A422 -> 05-3 EHP 설치 자동제어 시설공사(방재실 운영) | E40: 식 | F40: 1 | H40: =내역서!F430 -> 0 | J40: =내역서!H430 -> 0 | L40: =내역서!J430 -> 0 | N40: =내역서!L430 -> 0
C41: =내역서!A432 -> 7. 신장센터 가정의학 | E41: 식 | F41: 1 | H41: =SUM(H42:H48) -> 0 | J41: =SUM(J42:J48) -> 0 | L41: =SUM(L42:L48) -> 0 | N41: =SUM(N42:N48) -> 0
C42: =내역서!A433 -> 01. 기구류 철거공사(위생,공조) | E42: 식 | F42: 1 | H42: =SUM(내역서!F443) -> 0 | J42: =SUM(내역서!H443) -> 0 | L42: =SUM(내역서!J443) -> 0 | N42: =SUM(내역서!L443) -> 0
C43: =내역서!A444 -> 02. 위생기구류 설치공사 | E43: 식 | F43: 1 | H43: =SUM(내역서!F453) -> 0 | J43: =SUM(내역서!H453) -> 0 | L43: =SUM(내역서!J453) -> 0 | N43: =SUM(내역서!L453) -> 0
C44: =내역서!A454 -> 03. 급수, 배수배관공사 | E44: 식 | F44: 1 | H44: =SUM(내역서!F468) -> 0 | J44: =SUM(내역서!H468) -> 0 | L44: =SUM(내역서!J468) -> 0 | N44: =SUM(내역서!L468) -> 0
C45: =내역서!A469 -> 04. 공조용 급,배기덕트 설치공사 | E45: 식 | F45: 1 | H45: =SUM(내역서!F478) -> 0 | J45: =SUM(내역서!H478) -> 0 | L45: =SUM(내역서!J478) -> 0 | N45: =SUM(내역서!L478) -> 0
C46: =내역서!A479 -> 05-1 EHP 이전설치 | E46: 식 | F46: 1 | H46: =내역서!F487 -> 0 | J46: =내역서!H487 -> 0 | L46: =내역서!J487 -> 0 | N46: =내역서!L487 -> 0
C47: =내역서!A488 -> 06-2 EHP 이전설치 공사류 | E47: 식 | F47: 1 | H47: =내역서!F512 -> 0 | J47: =내역서!H512 -> 0 | L47: =내역서!J512 -> 0 | N47: =내역서!L512 -> 0
C48: =내역서!A513 -> 06-3 EHP 설치 자동제어 시설공사(방재실 운영) | E48: 식 | F48: 1 | H48: =내역서!F521 -> 0 | J48: =내역서!H521 -> 0 | L48: =내역서!J521 -> 0 | N48: =내역서!L521 -> 0
C49: =내역서!A523 -> 8. 투석실 | E49: 식 | F49: 1 | H49: =SUM(H50:H57) -> 0 | J49: =SUM(J50:J57) -> 0 | L49: =SUM(L50:L57) -> 0 | N49: =SUM(N50:N57) -> 0
C50: =내역서!A524 -> 01. 위생기구류 설치공사 | E50: 식 | F50: 1 | H50: =SUM(내역서!F534) -> 0 | J50: =SUM(내역서!H534) -> 0 | L50: =SUM(내역서!J534) -> 0 | N50: =SUM(내역서!L534) -> 0
C51: =내역서!A535 -> 02. 급수, 배수배관공사 | E51: 식 | F51: 1 | H51: =SUM(내역서!F548) -> 0 | J51: =SUM(내역서!H548) -> 0 | L51: =SUM(내역서!J548) -> 0 | N51: =SUM(내역서!L548) -> 0
C52: =내역서!A549 -> 03. 정수실 단독 부스터펌프 배관공사(기계실 부터 정수실까지) | E52: 식 | F52: 1 | H52: =SUM(내역서!F594) -> 0 | J52: =SUM(내역서!H594) -> 0 | L52: =SUM(내역서!J594) -> 0 | N52: =SUM(내역서!L594) -> 0
C53: =내역서!A595 -> 04. 정수실 정수배관공사 (정수실 ~ 투석장비) | E53: 식 | F53: 1 | H53: =SUM(내역서!F606) -> 0 | J53: =SUM(내역서!H606) -> 0 | L53: =SUM(내역서!J606) -> 0 | N53: =SUM(내역서!L606) -> 0
C54: =내역서!A607 -> 05. 공조용 급,배기덕트 설치공사 | E54: 식 | F54: 1 | H54: =SUM(내역서!F616) -> 0 | J54: =SUM(내역서!H616) -> 0 | L54: =SUM(내역서!J616) -> 0 | N54: =SUM(내역서!L616) -> 0
C55: =내역서!A617 -> 06-1 EHP 기기 장비류 | E55: 식 | F55: 1 | H55: =내역서!F628 -> 0 | J55: =내역서!H628 -> 0 | L55: =내역서!J628 -> 0 | N55: =내역서!L628 -> 0
C56: =내역서!A629 -> 06-2 EHP 설치 공사류 | E56: 식 | F56: 1 | H56: =내역서!F653 -> 0 | J56: =내역서!H653 -> 0 | L56: =내역서!J653 -> 0 | N56: =내역서!L653 -> 0
C57: =내역서!A654 -> 06-3 EHP 설치 자동제어 시설공사(방재실 운영) | E57: 식 | F57: 1 | H57: =내역서!F662 -> 0 | J57: =내역서!H662 -> 0 | L57: =내역서!J662 -> 0 | N57: =내역서!L662 -> 0
C58: 합 계 | H58: =SUM(H5+H9+H17+H25+H33+H41+H49) -> 0 | J58: =SUM(J5+J9+J17+J25+J33+J41+J49) -> 0 | L58: =SUM(L5+L9+L17+L25+L33+L41+L49) -> 0 | N58: =SUM(N5+N9+N17+N25+N33+N41+N49) -> 0

Sheet 내역서
A1: 내 역 서
A2: =집계표!C2 -> #REF!
A3: 품 명 | B3: 규 격 | C3: 단위 | D3: 수량 | E3: 재 료 비 | G3: 노 무 비 | I3: 경 비 | K3: 합 계 | M3: 비고
E4: 단가 | F4: 금액 | G4: 단가 | H4: 금액 | I4: 단가 | J4: 금액 | K4: 단가 | L4: 금액
A5: 1. 뇌신경센터이전
A6: 01. 기구류 철거공사(위생,공조)
A7: 세면기 철거 | C7: 조 | D7: 2 | E7: 0 | F7: =TRUNC(D7*E7,0) -> 0 | G7: 0 | H7: =TRUNC(D7*G7,0) -> 0 | I7: 0 | J7: =TRUNC(D7*I7,0) -> 0 | K7: =E7+G7+I7 -> 0 | L7: =F7+H7+J7 -> 0
A8: 싱크대 철거 | C8: 조 | D8: 1 | E8: 0 | F8: =TRUNC(D8*E8,0) -> 0 | G8: 0 | H8: =TRUNC(D8*G8,0) -> 0 | I8: 0 | J8: =TRUNC(D8*I8,0) -> 0 | K8: =E8+G8+I8 -> 0 | L8: =F8+H8+J8 -> 0
A9: 원형 디퓨쟈 철거 | C9: EA | D9: 10 | E9: 0 | F9: =TRUNC(D9*E9,0) -> 0 | G9: 0 | H9: =TRUNC(D9*G9,0) -> 0 | I9: 0 | J9: =TRUNC(D9*I9,0) -> 0 | K9: =E9+G9+I9 -> 0 | L9: =F9+H9+J9 -> 0
A10: 기존배관 하부마감처리 | C10: 조 | D10: 3 | E10: 0 | F10: =TRUNC(D10*E10,0) -> 0 | G10: 0 | H10: =TRUNC(D10*G10,0) -> 0 | I10: 0 | J10: =TRUNC(D10*I10,0) -> 0 | K10: =E10+G10+I10 -> 0 | L10: =F10+H10+J10 -> 0
A11: 플렉시블덕트 철거 | B11: Φ200mm | C11: 개소 | D11: 23 | E11: 0 | F11: =TRUNC(D11*E11,0) -> 0 | G11: 0 | H11: =TRUNC(D11*G11,0) -> 0 | I11: 0 | J11: =TRUNC(D11*I11,0) -> 0 | K11: =E11+G11+I11 -> 0 | L11: =F11+H11+J11 -> 0
A12: 폐기물처리 | C12: 식 | D12: 1 | E12: 0 | F12: =TRUNC(D12*E12,0) -> 0 | G12: 0 | H12: =TRUNC(D12*G12,0) -> 0 | I12: 0 | J12: =TRUNC(D12*I12,0) -> 0 | K12: =E12+G12+I12 -> 0 | L12: =F12+H12+J12 -> 0
A13: 기타 잡자재 | C13: 식 | D13: 1 | E13: 0 | F13: =TRUNC(D13*E13,0) -> 0 | G13: 0 | H13: =TRUNC(D13*G13,0) -> 0 | I13: 0 | J13: =TRUNC(D13*I13,0) -> 0 | K13: =E13+G13+I13 -> 0 | L13: =F13+H13+J13 -> 0
A14: 인건비 | B14: 배관공 | C14: 인 | E14: 0 | F14: =TRUNC(D14*E14,0) -> 0 | G14: 0 | H14: =TRUNC(D14*G14,0) -> 0 | I14: 0 | J14: =TRUNC(D14*I14,0) -> 0 | K14: =E14+G14+I14 -> 0 | L14: =F14+H14+J14 -> 0
A15: 공구손료 | B15: 노무비의 2% | C15: 식 | D15: 1 | E15: 0 | F15: =TRUNC(D15*E15,0) -> 0 | G15: 0 | H15: =TRUNC(D15*G15,0) -> 0 | I15: 0 | J15: =TRUNC(D15*I15,0) -> 0 | K15: =E15+G15+I15 -> 0 | L15: =F15+H15+J15 -> 0
A17: [ 소 계 ] | F17: =SUM(F7:F16) -> 0 | H17: =SUM(H7:H16) -> 0 | J17: =SUM(J7:J16) -> 0 | L17: =SUM(L7:L16) -> 0
A18: 02. 위생기구류 설치및 배관공사
A19: 세면기 | C19: 조 | D19: 7 | E19: 0 | F19: =TRUNC(D19*E19,0) -> 0 | G19: 0 | H19: =TRUNC(D19*G19,0) -> 0 | I19: 0 | J19: =TRUNC(D19*I19,0) -> 0 | K19: =E19+G19+I19 -> 0 | L19: =F19+H19+J19 -> 0
A20: 세면기용 혼합가랑 | C20: SET | D20: 7 | E20: 0 | F20: =TRUNC(D20*E20,0) -> 0 | G20: 0 | H20: =TRUNC(D20*G20,0) -> 0 | I20: 0 | J20: =TRUNC(D20*I20,0) -> 0 | K20: =E20+G20+I20 -> 0 | L20: =F20+H20+J20 -> 0
A21: 세면기 부속재 | C21: SET | D21: 7 | E21: 0 | F21: =TRUNC(D21*E21,0) -> 0 | G21: 0 | H21: =TRUNC(D21*G21,0) -> 0 | I21: 0 | J21: =TRUNC(D21*I21,0) -> 0 | K21: =E21+G21+I21 -> 0 | L21: =F21+H21+J21 -> 0
A22: 거울,수건걸이,비누대 | C22: SET | D22: 7 | E22: 0 | F22: =TRUNC(D22*E22,0) -> 0 | G22: 0 | H22: =TRUNC(D22*G22,0) -> 0 | I22: 0 | J22: =TRUNC(D22*I22,0) -> 0 | K22: =E22+G22+I22 -> 0 | L22: =F22+H22+J22 -> 0
A23: 코아 작업 | B23: 급수,온수,배수 | C23: SET | D23: 7 | E23: 0 | F23: =TRUNC(D23*E23,0) -> 0 | G23: 0 | H23: =TRUNC(D23*G23,0) -> 0 | I23: 0 | J23: =TRUNC(D23*I23,0) -> 0 | K23: =E23+G23+I23 -> 0 | L23: =F23+H23+J23 -> 0
A24: 기타 잡자재 | C24: 식 | D24: 1 | E24: 0 | F24: =TRUNC(D24*E24,0) -> 0 | G24: 0 | H24: =TRUNC(D24*G24,0) -> 0 | I24: 0 | J24: =TRUNC(D24*I24,0) -> 0 | K24: =E24+G24+I24 -> 0 | L24: =F24+H24+J24 -> 0
A25: 인건비 | B25: 배관공 | C25: 인 | E25: 0 | F25: =TRUNC(D25*E25,0) -> 0 | G25: 0 | H25: =TRUNC(D25*G25,0) -> 0 | I25: 0 | J25: =TRUNC(D25*I25,0) -> 0 | K25: =E25+G25+I25 -> 0 | L25: =F25+H25+J25 -> 0
A26: 공구손료 | B26: 노무비의 2% | C26: 식 | D26: 1 | E26: 0 | F26: =TRUNC(D26*E26,0) -> 0 | G26: 0 | H26: =TRUNC(D26*G26,0) -> 0 | I26: 0 | J26: =TRUNC(D26*I26,0) -> 0 | K26: =E26+G26+I26 -> 0 | L26: =F26+H26+J26 -> 0
A28: [ 소 계 ] | F28: =SUM(F19:F27) -> 0 | H28: =SUM(H19:H27) -> 0 | J28: =SUM(J19:J27) -> 0 | L28: =SUM(L19:L27) -> 0
A29: 03 공조용 급,배기덕트 설치공사
A30: 원형 디퓨쟈 | C30: EA | D30: 10 | E30: 0 | F30: =TRUNC(D30*E30,0) -> 0 | G30: 0 | H30: =TRUNC(D30*G30,0) -> 0 | I30: 0 | J30: =TRUNC(D30*I30,0) -> 0 | K30: =E30+G30+I30 -> 0 | L30: =F30+H30+J30 -> 0
A31: 사각 디퓨쟈 | B31: 600x600 | C31: EA | D31: 3 | M31: (도장 재설치)
A32: 덕트 링직설치 | B32: Φ200mm | C32: EA | D32: 23 | E32: 0 | F32: =TRUNC(D32*E32,0) -> 0 | G32: 0 | H32: =TRUNC(D32*G32,0) -> 0 | I32: 0 | J32: =TRUNC(D32*I32,0) -> 0 | K32: =E32+G32+I32 -> 0 | L32: =F32+H32+J32 -> 0
A33: 플렉시블덕트(보온) | B33: Φ200mm | C33: ROOL | D33: 23 | E33: 0 | F33: =TRUNC(D33*E33,0) -> 0 | G33: 0 | H33: =TRUNC(D33*G33,0) -> 0 | I33: 0 | J33: =TRUNC(D33*I33,0) -> 0 | K33: =E33+G33+I33 -> 0 | L33: =F33+H33+J33 -> 0
A34: 스텐밴드 | B34: Φ200mm | C34: EA | D34: 46 | E34: 0 | F34: =TRUNC(D34*E34,0) -> 0 | G34: 0 | H34: =TRUNC(D34*G34,0) -> 0 | I34: 0 | J34: =TRUNC(D34*I34,0) -> 0 | K34: =E34+G34+I34 -> 0 | L34: =F34+H34+J34 -> 0
A35: 기타 잡자재 | C35: 식 | D35: 1 | E35: 0 | F35: =TRUNC(D35*E35,0) -> 0 | G35: 0 | H35: =TRUNC(D35*G35,0) -> 0 | I35: 0 | J35: =TRUNC(D35*I35,0) -> 0 | K35: =E35+G35+I35 -> 0 | L35: =F35+H35+J35 -> 0
A36: 인건비 | B36: 배관공 | C36: 인 | E36: 0 | F36: =TRUNC(D36*E36,0) -> 0 | G36: 0 | H36: =TRUNC(D36*G36,0) -> 0 | I36: 0 | J36: =TRUNC(D36*I36,0) -> 0 | K36: =E36+G36+I36 -> 0 | L36: =F36+H36+J36 -> 0
A37: 공구손료 | B37: 노무비의 2% | C37: 식 | D37: 1 | E37: 0 | F37: =TRUNC(D37*E37,0) -> 0 | G37: 0 | H37: =TRUNC(D37*G37,0) -> 0 | I37: 0 | J37: =TRUNC(D37*I37,0) -> 0 | K37: =E37+G37+I37 -> 0 | L37: =F37+H37+J37 -> 0
A39: [ 소 계 ] | F39: =SUM(F30:F38) -> 0 | H39: =SUM(H30:H38) -> 0 | J39: =SUM(J30:J38) -> 0 | L39: =SUM(L30:L38) -> 0
A40: [ 합 계 ] | F40: =F39+F28+F17 -> 0 | H40: =H39+H28+H17 -> 0 | J40: =J39+J28+J17 -> 0 | L40: =L39+L28+L17 -> 0
A41: 3. 여성센터
A42: 01. 기구류 철거공사(위생,공조)
A43: 세면대 철거 | C43: 조 | D43: 12 | E43: 0 | F43: =TRUNC(D43*E43,0) -> 0 | G43: 0 | H43: =TRUNC(D43*G43,0) -> 0 | I43: 0 | J43: =TRUNC(D43*I43,0) -> 0 | K43: =E43+G43+I43 -> 0 | L43: =F43+H43+J43 -> 0
A44: 싱크대 철거 | C44: 조 | D44: 1 | E44: 0 | F44: =TRUNC(D44*E44,0) -> 0 | G44: 0 | H44: =TRUNC(D44*G44,0) -> 0 | I44: 0 | J44: =TRUNC(D44*I44,0) -> 0 | K44: =E44+G44+I44 -> 0 | L44: =F44+H44+J44 -> 0
A45: 원형 디퓨쟈 철거 | C45: EA | D45: 40 | E45: 0 | F45: =TRUNC(D45*E45,0) -> 0 | G45: 0 | H45: =TRUNC(D45*G45,0) -> 0 | I45: 0 | J45: =TRUNC(D45*I45,0) -> 0 | K45: =E45+G45+I45 -> 0 | L45: =F45+H45+J45 -> 0
A46: 기존배관 하부마감처리 | C46: 조 | D46: 11 | E46: 0 | F46: =TRUNC(D46*E46,0) -> 0 | G46: 0 | H46: =TRUNC(D46*G46,0) -> 0 | I46: 0 | J46: =TRUNC(D46*I46,0) -> 0 | K46: =E46+G46+I46 -> 0 | L46: =F46+H46+J46 -> 0
A47: 플렉시블덕트 철거 | C47: 개소 | D47: 40 | E47: 0 | F47: =TRUNC(D47*E47,0) -> 0 | G47: 0 | H47: =TRUNC(D47*G47,0) -> 0 | I47: 0 | J47: =TRUNC(D47*I47,0) -> 0 | K47: =E47+G47+I47 -> 0 | L47: =F47+H47+J47 -> 0
A48: 폐기물처리 | C48: 식 | D48: 1 | E48: 0 | F48: =TRUNC(D48*E48,0) -> 0 | G48: 0 | H48: =TRUNC(D48*G48,0) -> 0 | I48: 0 | J48: =TRUNC(D48*I48,0) -> 0 | K48: =E48+G48+I48 -> 0 | L48: =F48+H48+J48 -> 0
A49: 기타 잡자재 | C49: 식 | D49: 1 | E49: 0 | F49: =TRUNC(D49*E49,0) -> 0 | G49: 0 | H49: =TRUNC(D49*G49,0) -> 0 | I49: 0 | J49: =TRUNC(D49*I49,0) -> 0 | K49: =E49+G49+I49 -> 0 | L49: =F49+H49+J49 -> 0
A50: 인건비 | B50: 배관공 | C50: 인 | E50: 0 | F50: =TRUNC(D50*E50,0) -> 0 | G50: 0 | H50: =TRUNC(D50*G50,0) -> 0 | I50: 0 | J50: =TRUNC(D50*I50,0) -> 0 | K50: =E50+G50+I50 -> 0 | L50: =F50+H50+J50 -> 0
A51: 공구손료 | B51: 노무비의 2% | C51: 식 | D51: 1 | E51: 0 | F51: =TRUNC(D51*E51,0) -> 0 | G51: 0 | H51: =TRUNC(D51*G51,0) -> 0 | I51: 0 | J51: =TRUNC(D51*I51,0) -> 0 | K51: =E51+G51+I51 -> 0 | L51: =F51+H51+J51 -> 0
A53: [ 소 계 ] | F53: =SUM(F45:F52) -> 0 | H53: =SUM(H45:H52) -> 0 | J53: =SUM(J45:J52) -> 0 | L53: =SUM(L45:L52) -> 0
A54: 02. 위생기구류 설치공사
A55: 세면기 | C55: 조 | D55: 12 | E55: 0 | F55: =TRUNC(D55*E55,0) -> 0 | G55: 0 | H55: =TRUNC(D55*G55,0) -> 0 | I55: 0 | J55: =TRUNC(D55*I55,0) -> 0 | K55: =E55+G55+I55 -> 0 | L55: =F55+H55+J55 -> 0
A56: 씽크대 | C56: 조 | D56: 2 | E56: 0 | F56: =TRUNC(D56*E56,0) -> 0 | G56: 0 | H56: =TRUNC(D56*G56,0) -> 0 | I56: 0 | J56: =TRUNC(D56*I56,0) -> 0 | K56: =E56+G56+I56 -> 0 | L56: =F56+H56+J56 -> 0
A57: 마블용 세면기(파우더데스크) | B57: 건축공사분(인테리어 제작) | C57: 조 | D57: 1 | E57: 0 | F57: =TRUNC(D57*E57,0) -> 0 | G57: 0 | H57: =TRUNC(D57*G57,0) -> 0 | I57: 0 | J57: =TRUNC(D57*I57,0) -> 0 | K57: =E57+G57+I57 -> 0 | L57: =F57+H57+J57 -> 0
A58: 오물처리용 수채 | C58: 조 | D58: 1 | E58: 0 | F58: =TRUNC(D58*E58,0) -> 0 | G58: 0 | H58: =TRUNC(D58*G58,0) -> 0 | I58: 0 | J58: =TRUNC(D58*I58,0) -> 0 | K58: =E58+G58+I58 -> 0 | L58: =F58+H58+J58 -> 0
A59: 세면기용 혼합가랑 | C59: SET | D59: 12 | E59: 0 | F59: =TRUNC(D59*E59,0) -> 0 | G59: 0 | H59: =TRUNC(D59*G59,0) -> 0 | I59: 0 | J59: =TRUNC(D59*I59,0) -> 0 | K59: =E59+G59+I59 -> 0 | L59: =F59+H59+J59 -> 0
A60: 씽크대용 혼합가랑 | C60: SET | D60: 2 | E60: 0 | F60: =TRUNC(D60*E60,0) -> 0 | G60: 0 | H60: =TRUNC(D60*G60,0) -> 0 | I60: 0 | J60: =TRUNC(D60*I60,0) -> 0 | K60: =E60+G60+I60 -> 0 | L60: =F60+H60+J60 -> 0
A61: 세면기 부속재 | C61: SET | D61: 12 | E61: 0 | F61: =TRUNC(D61*E61,0) -> 0 | G61: 0 | H61: =TRUNC(D61*G61,0) -> 0 | I61: 0 | J61: =TRUNC(D61*I61,0) -> 0 | K61: =E61+G61+I61 -> 0 | L61: =F61+H61+J61 -> 0
A62: 거울,수건걸이,비누대 | C62: SET | D62: 12 | E62: 0 | F62: =TRUNC(D62*E62,0) -> 0 | G62: 0 | H62: =TRUNC(D62*G62,0) -> 0 | I62: 0 | J62: =TRUNC(D62*I62,0) -> 0 | K62: =E62+G62+I62 -> 0 | L62: =F62+H62+J62 -> 0
A63: 기타 잡자재 | C63: 식 | D63: 1 | E63: 0 | F63: =TRUNC(D63*E63,0) -> 0 | G63: 0 | H63: =TRUNC(D63*G63,0) -> 0 | I63: 0 | J63: =TRUNC(D63*I63,0) -> 0 | K63: =E63+G63+I63 -> 0 | L63: =F63+H63+J63 -> 0
A64: 인건비 | B64: 배관공 | C64: 인 | E64: 0 | F64: =TRUNC(D64*E64,0) -> 0 | G64: 0 | H64: =TRUNC(D64*G64,0) -> 0 | I64: 0 | J64: =TRUNC(D64*I64,0) -> 0 | K64: =E64+G64+I64 -> 0 | L64: =F64+H64+J64 -> 0
A65: 공구손료 | B65: 노무비의 2% | C65: 식 | D65: 1 | E65: 0 | F65: =TRUNC(D65*E65,0) -> 0 | G65: 0 | H65: =TRUNC(D65*G65,0) -> 0 | I65: 0 | J65: =TRUNC(D65*I65,0) -> 0 | K65: =E65+G65+I65 -> 0 | L65: =F65+H65+J65 -> 0
A67: [ 소 계 ] | F67: =SUM(F55:F66) -> 0 | H67: =SUM(H55:H66) -> 0 | J67: =SUM(J55:J66) -> 0 | L67: =SUM(L55:L66) -> 0
A68: 03 급수급탕및 오배수배관공사
A69: 배관용스테리스강관 | B69: SUS(K-TYPE) | C69: 식 | D69: 1 | E69: 0 | F69: =TRUNC(D69*E69,0) -> 0 | G69: 0 | H69: =TRUNC(D69*G69,0) -> 0 | I69: 0 | J69: =TRUNC(D69*I69,0) -> 0 | K69: =E69+G69+I69 -> 0 | L69: =F69+H69+J69 -> 0
A70: PVC파이프(VG1) | C70: 식 | D70: 1 | E70: 0 | F70: =TRUNC(D70*E70,0) -> 0 | G70: 0 | H70: =TRUNC(D70*G70,0) -> 0 | I70: 0 | J70: =TRUNC(D70*I70,0) -> 0 | K70: =E70+G70+I70 -> 0 | L70: =F70+H70+J70 -> 0
A71: 잡재료비 | B71: 관의 3% | C71: 식 | D71: 1 | E71: 0 | F71: =TRUNC(D71*E71,0) -> 0 | G71: 0 | H71: =TRUNC(D71*G71,0) -> 0 | I71: 0 | J71: =TRUNC(D71*I71,0) -> 0 | K71: =E71+G71+I71 -> 0 | L71: =F71+H71+J71 -> 0
A72: 관보온 | C72: 식 | D72: 1 | E72: 0 | F72: =TRUNC(D72*E72,0) -> 0 | G72: 0 | H72: =TRUNC(D72*G72,0) -> 0 | I72: 0 | J72: =TRUNC(D72*I72,0) -> 0 | K72: =E72+G72+I72 -> 0 | L72: =F72+H72+J72 -> 0
A73: SR 부속재 | C73: 식 | D73: 1 | E73: 0 | F73: =TRUNC(D73*E73,0) -> 0 | G73: 0 | H73: =TRUNC(D73*G73,0) -> 0 | I73: 0 | J73: =TRUNC(D73*I73,0) -> 0 | K73: =E73+G73+I73 -> 0 | L73: =F73+H73+J73 -> 0
A74: 기타PVC 부속재 | C74: 식 | D74: 1 | E74: 0 | F74: =TRUNC(D74*E74,0) -> 0 | G74: 0 | H74: =TRUNC(D74*G74,0) -> 0 | I74: 0 | J74: =TRUNC(D74*I74,0) -> 0 | K74: =E74+G74+I74 -> 0 | L74: =F74+H74+J74 -> 0
A75: 기타SR 부속재 | C75: 식 | D75: 1 | E75: 0 | F75: =TRUNC(D75*E75,0) -> 0 | G75: 0 | H75: =TRUNC(D75*G75,0) -> 0 | I75: 0 | J75: =TRUNC(D75*I75,0) -> 0 | K75: =E75+G75+I75 -> 0 | L75: =F75+H75+J75 -> 0
A76: 볼밸브류 | C76: 식 | D76: 1 | E76: 0 | F76: =TRUNC(D76*E76,0) -> 0 | G76: 0 | H76: =TRUNC(D76*G76,0) -> 0 | I76: 0 | J76: =TRUNC(D76*I76,0) -> 0 | K76: =E76+G76+I76 -> 0 | L76: =F76+H76+J76 -> 0
A77: 코아 작업 | B77: 급수,온수,배수 | C77: SET | D77: 16 | E77: 0 | F77: =TRUNC(D77*E77,0) -> 0 | G77: 0 | H77: =TRUNC(D77*G77,0) -> 0 | I77: 0 | J77: =TRUNC(D77*I77,0) -> 0 | K77: =E77+G77+I77 -> 0 | L77: =F77+H77+J77 -> 0
A78: 기타 잡자재 | C78: 식 | D78: 1 | E78: 0 | F78: =TRUNC(D78*E78,0) -> 0 | G78: 0 | H78: =TRUNC(D78*G78,0) -> 0 | I78: 0 | J78: =TRUNC(D78*I78,0) -> 0 | K78: =E78+G78+I78 -> 0 | L78: =F78+H78+J78 -> 0
A79: 인건비 | B79: 배관공 | C79: 인 | E79: 0 | F79: =TRUNC(D79*E79,0) -> 0 | G79: 0 | H79: =TRUNC(D79*G79,0) -> 0 | I79: 0 | J79: =TRUNC(D79*I79,0) -> 0 | K79: =E79+G79+I79 -> 0 | L79: =F79+H79+J79 -> 0
A80: 공구손료 | B80: 노무비의 2% | C80: 식 | D80: 1 | E80: 0 | F80: =TRUNC(D80*E80,0) -> 0 | G80: 0 | H80: =TRUNC(D80*G80,0) -> 0 | I80: 0 | J80: =TRUNC(D80*I80,0) -> 0 | K80: =E80+G80+I80 -> 0 | L80: =F80+H80+J80 -> 0
A82: [ 소 계 ] | F82: =SUM(F69:F81) -> 0 | H82: =SUM(H69:H81) -> 0 | J82: =SUM(J69:J81) -> 0 | L82: =SUM(L69:L81) -> 0
A83: 04 시스템냉난방기 설치공사(고정압 덕트형)
A84: 04-1 EHP 기기 장비류
A85: 시스템냉난방기( 덕트형) | C85: 대 | D85: 4 | E85: 0 | F85: =TRUNC(D85*E85,0) -> 0 | G85: 0 | H85: =TRUNC(D85*G85,0) -> 0 | I85: 0 | J85: =TRUNC(D85*I85,0) -> 0 | K85: =E85+G85+I85 -> 0 | L85: =F85+H85+J85 -> 0
A86: 냉난방 실외기 | C86: 대 | D86: 1 | E86: 0 | F86: =TRUNC(D86*E86,0) -> 0 | G86: 0 | H86: =TRUNC(D86*G86,0) -> 0 | I86: 0 | J86: =TRUNC(D86*I86,0) -> 0 | K86: =E86+G86+I86 -> 0 | L86: =F86+H86+J86 -> 0
A87: 냉난방 실외기 방진가대 | C87: 대 | D87: 1 | E87: 0 | F87: =TRUNC(D87*E87,0) -> 0 | G87: 0 | H87: =TRUNC(D87*G87,0) -> 0 | I87: 0 | J87: =TRUNC(D87*I87,0) -> 0 | K87: =E87+G87+I87 -> 0 | L87: =F87+H87+J87 -> 0
A88: 실내기 분기덕트(보온 4구) | C88: 대 | D88: 8 | E88: 0 | F88: =TRUNC(D88*E88,0) -> 0 | G88: 0 | H88: =TRUNC(D88*G88,0) -> 0 | I88: 0 | J88: =TRUNC(D88*I88,0) -> 0 | K88: =E88+G88+I88 -> 0 | L88: =F88+H88+J88 -> 0
A89: 원형 디퓨쟈 | C89: EA | D89: 30 | E89: 0 | F89: =TRUNC(D89*E89,0) -> 0 | G89: 0 | H89: =TRUNC(D89*G89,0) -> 0 | I89: 0 | J89: =TRUNC(D89*I89,0) -> 0 | K89: =E89+G89+I89 -> 0 | L89: =F89+H89+J89 -> 0
A90: 플렉시블덕트(보온) | B90: Φ200mm | C90: ROOL | D90: 9 | E90: 0 | F90: =TRUNC(D90*E90,0) -> 0 | G90: 0 | H90: =TRUNC(D90*G90,0) -> 0 | I90: 0 | J90: =TRUNC(D90*I90,0) -> 0 | K90: =E90+G90+I90 -> 0 | L90: =F90+H90+J90 -> 0
A91: 유선리모컨 (냉난방) | C91: 대 | D91: 4 | E91: 0 | F91: =TRUNC(D91*E91,0) -> 0 | G91: 0 | H91: =TRUNC(D91*G91,0) -> 0 | I91: 0 | J91: =TRUNC(D91*I91,0) -> 0 | K91: =E91+G91+I91 -> 0 | L91: =F91+H91+J91 -> 0
A92: Y분지관 | C92: 대 | D92: 3 | E92: 0 | F92: =TRUNC(D92*E92,0) -> 0 | G92: 0 | H92: =TRUNC(D92*G92,0) -> 0 | I92: 0 | J92: =TRUNC(D92*I92,0) -> 0 | K92: =E92+G92+I92 -> 0 | L92: =F92+H92+J92 -> 0
A93: 후랙시블(타포린 보온) | C93: 식 | D93: 1 | E93: 0 | F93: =TRUNC(D93*E93,0) -> 0 | G93: 0 | H93: =TRUNC(D93*G93,0) -> 0 | I93: 0 | J93: =TRUNC(D93*I93,0) -> 0 | K93: =E93+G93+I93 -> 0 | L93: =F93+H93+J93 -> 0
A94: 덕트 부자재 | C94: 식 | D94: 1 | E94: 0 | F94: =TRUNC(D94*E94,0) -> 0 | G94: 0 | H94: =TRUNC(D94*G94,0) -> 0 | I94: 0 | J94: =TRUNC(D94*I94,0) -> 0 | K94: =E94+G94+I94 -> 0 | L94: =F94+H94+J94 -> 0
A95: 잡자재비 | C95: 식 | D95: 1 | E95: 0 | F95: =TRUNC(D95*E95,0) -> 0 | G95: 0 | H95: =TRUNC(D95*G95,0) -> 0 | I95: 0 | J95: =TRUNC(D95*I95,0) -> 0 | K95: =E95+G95+I95 -> 0 | L95: =F95+H95+J95 -> 0
A96: 기계설비공 | B96: 일반공사 직종 | C96: 인 | E96: 0 | F96: =TRUNC(D96*E96,0) -> 0 | G96: 0 | H96: =TRUNC(D96*G96,0) -> 0 | I96: 0 | J96: =TRUNC(D96*I96,0) -> 0 | K96: =E96+G96+I96 -> 0 | L96: =F96+H96+J96 -> 0
A97: 덕트공 | B97: 일반공사 직종 | C97: 인 | E97: 0 | F97: =TRUNC(D97*E97,0) -> 0 | G97: 0 | H97: =TRUNC(D97*G97,0) -> 0 | I97: 0 | J97: =TRUNC(D97*I97,0) -> 0 | K97: =E97+G97+I97 -> 0 | L97: =F97+H97+J97 -> 0
A98: 공구손료 | B98: 노무비의 2% | C98: 식 | D98: 1 | E98: 0 | F98: =TRUNC(D98*E98,0) -> 0 | G98: 0 | H98: =TRUNC(D98*G98,0) -> 0 | I98: 0 | J98: =TRUNC(D98*I98,0) -> 0 | K98: =E98+G98+I98 -> 0 | L98: =F98+H98+J98 -> 0
A100: [ 소 계 ] | F100: =SUM(F85:F99) -> 0 | H100: =SUM(H85:H99) -> 0 | J100: =SUM(J85:J99) -> 0 | L100: =SUM(L85:L99) -> 0
A101: 04-2 EHP 설치 공사류
A102: 동관 (L-TYPE) 자재류 | C102: 식 | D102: 1 | E102: 0 | F102: =TRUNC(D102*E102,0) -> 0 | G102: 0 | H102: =TRUNC(D102*G102,0) -> 0 | I102: 0 | J102: =TRUNC(D102*I102,0) -> 0 | K102: =E102+G102+I102 -> 0 | L102: =F102+H102+J102 -> 0
A103: 동관 보온재 (EPDM)류 | C103: 식 | D103: 1 | E103: 0 | F103: =TRUNC(D103*E103,0) -> 0 | G103: 0 | H103: =TRUNC(D103*G103,0) -> 0 | I103: 0 | J103: =TRUNC(D103*I103,0) -> 0 | K103: =E103+G103+I103 -> 0 | L103: =F103+H103+J103 -> 0
A104: 동관 용접 | C104: 식 | D104: 1 | E104: 0 | F104: =TRUNC(D104*E104,0) -> 0 | G104: 0 | H104: =TRUNC(D104*G104,0) -> 0 | I104: 0 | J104: =TRUNC(D104*I104,0) -> 0 | K104: =E104+G104+I104 -> 0 | L104: =F104+H104+J104 -> 0
A105: 동관 부속품 | C105: 식 | D105: 1 | E105: 0 | F105: =TRUNC(D105*E105,0) -> 0 | G105: 0 | H105: =TRUNC(D105*G105,0) -> 0 | I105: 0 | J105: =TRUNC(D105*I105,0) -> 0 | K105: =E105+G105+I105 -> 0 | L105: =F105+H105+J105 -> 0
A106: 드레인관 (PVC) | C106: 식 | D106: 1 | E106: 0 | F106: =TRUNC(D106*E106,0) -> 0 | G106: 0 | H106: =TRUNC(D106*G106,0) -> 0 | I106: 0 | J106: =TRUNC(D106*I106,0) -> 0 | K106: =E106+G106+I106 -> 0 | L106: =F106+H106+J106 -> 0
A107: 드레인관 보온재 (가교PE+은박) | C107: 식 | D107: 1 | E107: 0 | F107: =TRUNC(D107*E107,0) -> 0 | G107: 0 | H107: =TRUNC(D107*G107,0) -> 0 | I107: 0 | J107: =TRUNC(D107*I107,0) -> 0 | K107: =E107+G107+I107 -> 0 | L107: =F107+H107+J107 -> 0
...
