Workbook
Name __a1: #REF!
Name __a1: #REF!
Name __a100000: #REF!
Name __a100000: #REF!
Name __A183154: #REF!
Name __A183154: #REF!
Name __a80000: #REF!
Name __a80000: #REF!
Name __AHU1: #REF!
Name __AHU1: #REF!
Name __AHU2: #REF!
Name __AHU2: #REF!
Name __AHU3: #REF!
Name __AHU3: #REF!
Name __AHU4: #REF!
Name __AHU4: #REF!
Name __AHU5: #REF!
Name __AHU5: #REF!
Name __AHU6: #REF!
Name __AHU6: #REF!
Name __AHU7: #REF!
Name __AHU7: #REF!
Name __AHU8: #REF!
Name __AHU8: #REF!
Name __bv3: BlankMacro1
Name __bv3: BlankMacro1
Name __CDT2: #REF!
Name __CDT2: #REF!
Name __ddd1: #REF!
Name __ddd1: #REF!
Name __DOG1: #REF!
Name __DOG1: #REF!
Name __DOG2: #REF!
Name __DOG2: #REF!
Name __DOG3: #REF!
Name __DOG3: #REF!
Name __DOG4: #REF!
Name __DOG4: #REF!
Name __K1: #REF!
Name __K1: #REF!
Name __K2: #REF!
Name __K2: #REF!
Name __K3: #REF!
Name __K3: #REF!
Name __K5: #REF!
Name __K5: #REF!
Name __K6: #REF!
Name __K6: #REF!
Name __LL1: #REF!
Name __LL1: #REF!
Name __LL2: #REF!
Name __LL2: #REF!
Name __LL3: #REF!
Name __LL3: #REF!
Name __LL4: #REF!
Name __LL4: #REF!
Name __LL5: #REF!
Name __LL5: #REF!
Name __LP1: #REF!
Name __LP1: #REF!

Sheet 원가계산서 (2)
A1: 공 사 원 가 계 산 서
A2: 공 사 명 : 국제성모병원 외래진료센터 변경 설비공사
A3: 구 분 | E3: 산 출 방 법 | H3: 금 액 | I3: 비 고
A5: 1. 순공사 원가 | E5: [가+나+다] | H5: =H6+H8+H11 -> 0
B6: 가. 재료비 | H6: =H7 -> 0
C7: 가-1. 직접재료비 | H7: =집계표!H58 -> 0
B8: 나. 노무비 | H8: =H9+H10 -> 0
C9: 나-1. 직접노무비 | H9: =집계표!J58 -> 0
C10: 나-2. 간접노무비 | E10: [나1] 의 | G10: 0.126 | H10: =H9*G10 -> 0
B11: 다. 경비 | H11: =H12+H13+H14+H15+H16+H17+H18+H19+H23+H24+H25+H26+H27 -> 0
C12: 다-1. 산출경비 | H12: =집계표!L58 -> 0
C13: 다-2. 산재보험료 | E13: [나] 의 | G13: 0.0356 | H13: =H8*G13 -> 0
C14: 다-3. 고용보험료 | E14: [나] 의 | G14: 0.0101 | H14: =H8*G14 -> 0
C15: 다-4. 국민건강보험료 | E15: [나1] 의 | G15: 0.03545 | H15: =H9*G15 -> 0
C16: 다-5. 노인장기요양보험료 | E16: [다4] 의 | G16: 0.1295 | H16: =INT(H15*G16) -> 0
C17: 다-6. 국민연금보험료 | E17: [나1] 의 | G17: 0.045 | H17: =H9*G17 -> 0
C18: 다-7. 퇴직공제부금비 | E18: [나1] 의 | G18: 0.023 | H18: =H9*G18 -> 0
C19: 다-8. 산업안전보건관리비 | E19: ※ 관급포함시 : ⓑ와ⓒ 비교후 적은금액 적용 | H19: =H22 -> 0
D20: ⓐ.일반의경우 | E20: [가+나1] 의 | F20: 0.0311 | H20: =(H7+H9)*F20+G20 -> 0
D21: ⓑ.ⓐ의 1.2배 | H21: =H20*1.2 -> 0
D22: ⓒ.관급자재대 포함 | E22: [가+나1+관급자재대] 의 | F22: 0.0311 | H22: =(H6+H9+H37/1.1)*F22+G22 -> 0
C23: 다-9. 기타경비 | E23: [가+나] 의 | G23: 0.046 | H23: =(H6+H8)*G23 -> 0
C24: 다-10. 공사이행보증서 발급수수료 | E24: ([가+나1+다1] 의-140억원*0.019%)*공기(년)
C25: 다-11. 하도급 대금 지급보증서 발급수수료 | E25: [가+나1+다1] 의 | G25: 0.00081 | H25: =(H6+H9+H12)*G25 -> 0
C26: 다-12. 건설기계대여대금지급보증서발급금액 | E26: [가+나1+다1] 의 | G26: 0.0016 | H26: =(H6+H9+H12)*G26 -> 0
C27: 다-13. 환경보전비 | E27: [가+나1+다1] 의 | G27: 0.003 | H27: =(H6+H9+H12)*G27 -> 0
A28: 2. 일 반 관 리 비 | E28: [1] 의 | G28: 0.08 | H28: =H5*G28 -> 0
A29: 3. 이 윤 | E29: [나+다+2]의 | G29: 0.15 | H29: =(H8+H11+H28)*G29/1.1 -> 0
A30: 4. T. A. B 공 사
A31: 5. 총 원 가 | E31: [1+2+3+4] | H31: =(H5+H28+H29+H30) -> 0
A32: 6. 부 가 가 치 세 | E32: [5]의 | G32: 0.1 | H32: =H31*G32 -> 0
A33: 7. 총 계 | E33: [5+6] | H33: =H31+H32 -> 0
A34: 8. 건설 폐기물 처리비
A35: 9. 시 설 분 담 금 | H35: =[1]공종별총괄표!L29 -> 0
A36: 조 사 금 액 | H36: =H33+H34+H35 -> 0
A37: 관급자재대(도급자관급) | H37: =[1]공종별총괄표!L15 -> 0
A38: 관급자재대(관급자관급) | H38: =[1]공종별총괄표!L22 -> 0
A39: 총 공 사 비 | H39: =H36+H37+H38 -> 0

Sheet 집계표
C1: 집 계 표
C2: =#REF! -> #REF!
A3: 공종 | B3: 코드 | C3: 품 명 | D3: 규 격 | E3: 단위 | F3: 수량 | G3: 재 료 비 | I3: 노 무 비 | K3: 경 비 | M3: 합 계 | O3: 비고
G4: 단가 | H4: 금액 | I4: 단가 | J4: 금액 | K4: 단가 | L4: 금액 | M4: 단가 | N4: 금액
C5: =내역서!A5 -> 1. 뇌신경센터이전 | H5: =SUM(H6:H8) -> 0 | J5: =SUM(J6:J8) -> 0 | L5: =SUM(L6:L8) -> 0 | N5: =SUM(N6:N8) -> 0
C6: =내역서!A6 -> 01. 기구류 철거공사(위생,공조) | E6: 식 | F6: 1 | H6: =SUM(내역서!F17) -> 0 | J6: =SUM(내역서!H17) -> 0 | L6: =SUM(내역서!J17) -> 0 | N6: =SUM(내역서!L17) -> 0
C7: =내역서!A18 -> 02. 위생기구류 설치및 배관공사 | E7: 식 | F7: 1 | H7: =내역서!F28 -> 0 | J7: =내역서!H28 -> 0 | L7: =내역서!J28 -> 0 | N7: =내역서!L28 -> 0
C8: =내역서!A29 -> 03 공조용 급,배기덕트 설치공사 | E8: 식 | F8: 1 | H8: =SUM(내역서!F39) -> 0 | J8: =SUM(내역서!H39) -> 0 | L8: =SUM(내역서!J39) -> 0 | N8: =SUM(내역서!L39) -> 0
C9: =내역서!A41 -> 3. 여성센터 | E9: 식 | F9: 1 | H9: =SUM(H10:H16) -> 0 | J9: =SUM(J10:J16) -> 0 | L9: =SUM(L10:L16) -> 0 | N9: =SUM(N10:N16) -> 0
C10: =내역서!A42 -> 01. 기구류 철거공사(위생,공조) | E10: 식 | F10: 1 | H10: =SUM(내역서!F53) -> 0 | J10: =SUM(내역서!H53) -> 0 | L10: =SUM(내역서!J53) -> 0 | N10: =SUM(내역서!L53) -> 0
C11: =내역서!A54 -> 02. 위생기구류 설치공사 | E11: 식 | F11: 1 | H11: =SUM(내역서!F67) -> 0 | J11: =SUM(내역서!H67) -> 0 | L11: =SUM(내역서!J67) -> 0 | N11: =SUM(내역서!L67) -> 0
C12: =내역서!A68 -> 03 급수급탕및 오배수배관공사 | E12: 식 | F12: 1 | H12: =SUM(내역서!F82) -> 0 | J12: =SUM(내역서!H82) -> 0 | L12: =SUM(내역서!J82) -> 0 | N12: =SUM(내역서!L82) -> 0
C13: =내역서!A84 -> 04-1 EHP 기기 장비류 | E13: 식 | F13: 1 | H13: =SUM(내역서!F100) -> 0 | J13: =SUM(내역서!H100) -> 0 | L13: =SUM(내역서!J100) -> 0 | N13: =SUM(내역서!L100) -> 0
C14: =내역서!A101 -> 04-2 EHP 설치 공사류 | E14: 식 | F14: 1 | H14: =SUM(내역서!F125) -> 0 | J14: =SUM(내역서!H125) -> 0 | L14: =SUM(내역서!J125) -> 0 | N14: =SUM(내역서!L125) -> 0
C15: =내역서!A126 -> 04-3 EHP 설치 자동제어 시설공사(방재실 운영) | E15: 식 | F15: 1 | H15: =SUM(내역서!F134) -> 0 | J15: =SUM(내역서!H134) -> 0 | L15: =SUM(내역서!J134) -> 0 | N15: =SUM(내역서!L134) -> 0
C16: =내역서!A135 -> 05. 공조용 급,배기덕트 설치공사 | E16: 식 | F16: 1 | H16: =SUM(내역서!F145) -> 0 | J16: =SUM(내역서!H145) -> 0 | L16: =SUM(내역서!J145) -> 0 | N16: =SUM(내역서!L145) -> 0
C17: =내역서!A147 -> 4. 정신건강의학과 | E17: 식 | F17: 1 | H17: =SUM(H18:H24) -> 0 | J17: =SUM(J18:J24) -> 0 | L17: =SUM(L18:L24) -> 0 | N17: =SUM(N18:N24) -> 0
C18: =내역서!A148 -> 01. 기구류 철거공사(위생,공조) | E18: 식 | F18: 1 | H18: =SUM(내역서!F158) -> 0 | J18: =SUM(내역서!H158) -> 0 | L18: =SUM(내역서!J158) -> 0 | N18: =SUM(내역서!L158) -> 0
C19: =내역서!A159 -> 02. 위생기구류 설치공사 | E19: 식 | F19: 1 | H19: =SUM(내역서!F168) -> 0 | J19: =SUM(내역서!H168) -> 0 | L19: =SUM(내역서!J168) -> 0 | N19: =SUM(내역서!L168) -> 0
C20: =내역서!A169 -> 03. 급수급탕및 오배수배관공사 | E20: 식 | F20: 1 | H20: =SUM(내역서!F183) -> 0 | J20: =SUM(내역서!H183) -> 0 | L20: =SUM(내역서!J183) -> 0 | N20: =SUM(내역서!L183) -> 0
C21: =내역서!A184 -> 04. 공조용 급,배기덕트 설치공사 | E21: 식 | F21: 1 | H21: =SUM(내역서!F193) -> 0 | J21: =SUM(내역서!H193) -> 0 | L21: =SUM(내역서!J193) -> 0 | N21: =SUM(내역서!L193) -> 0
C22: =내역서!A194 -> 05-1 EHP 이전설치 | E22: 식 | F22: 1 | H22: =내역서!F201 -> 0 | J22: =내역서!H201 -> 0 | L22: =내역서!J201 -> 0 | N22: =내역서!L201 -> 0
C23: =내역서!A202 -> 05-2 EHP 이전설치 공사류 | E23: 식 | F23: 1 | H23: =내역서!F226 -> 0 | J23: =내역서!H226 -> 0 | L23: =내역서!J226 -> 0 | N23: =내역서!L226 -> 0
C24: =내역서!A227 -> 05-3 EHP 설치 자동제어 시설공사(방재실 운영) | E24: 식 | F24: 1 | H24: =내역서!F235 -> 0 | J24: =내역서!H235 -> 0 | L24: =내역서!J235 -> 0 | N24: =내역서!L235 -> 0
C25: =내역서!A237 -> 5. 비뇨의학과 | E25: 식 | F25: 1 | H25: =SUM(H26:H32) -> 0 | J25: =SUM(J26:J32) -> 0 | L25: =SUM(L26:L32) -> 0 | N25: =SUM(N26:N32) -> 0
C26: =내역서!A238 -> 01. 기구류 철거공사(위생,공조) | E26: 식 | F26: 1 | H26: =SUM(내역서!F248) -> 0 | J26: =SUM(내역서!H248) -> 0 | L26: =SUM(내역서!J248) -> 0 | N26: =SUM(내역서!L248) -> 0
C27: =내역서!A249 -> 02. 위생기구류 설치공사 | E27: 식 | F27: 1 | H27: =SUM(내역서!F260) -> 0 | J27: =SUM(내역서!H260) -> 0 | L27: =SUM(내역서!J260) -> 0 | N27: =SUM(내역서!L260) -> 0
C28: =내역서!A261 -> 03 급수급탕및 오배수배관공사 | E28: 식 | F28: 1 | H28: =SUM(내역서!F275) -> 0 | J28: =SUM(내역서!H275) -> 0 | L28: =SUM(내역서!J275) -> 0 | N28: =SUM(내역서!L275) -> 0
C29: =내역서!A276 -> 04. 공조용 급,배기덕트 설치공사 | E29: 식 | F29: 1 | H29: =SUM(내역서!F286) -> 0 | J29: =SUM(내역서!H286) -> 0 | L29: =SUM(내역서!J286) -> 0 | N29: =SUM(내역서!L286) -> 0
C30: =내역서!A287 -> 05-1 EHP 이전.신규설치 | E30: 식 | F30: 1 | H30: =내역서!F297 -> 0 | J30: =내역서!H297 -> 0 | L30: =내역서!J297 -> 0 | N30: =내역서!L297 -> 0
C31: =내역서!A298 -> 05-2 EHP 이전.신규 설치 공사류 | E31: 식 | F31: 1 | H31: =내역서!F322 -> 0 | J31: =내역서!H322 -> 0 | L31: =내역서!J322 -> 0 | N31: =내역서!L322 -> 0
C32: =내역서!A323 -> 05-3 EHP 설치 자동제어 시설공사(방재실 운영) | E32: 식 | F32: 1 | H32: =내역서!F331 -> 0 | J32: =내역서!H331 -> 0 | L32: =내역서!J331 -> 0 | N32: =내역서!L331 -> 0
C33: =내역서!A333 -> 6. 통증클리닉 | E33: 식 | F33: 1 | H33: =SUM(H34:H40) -> 0 | J33: =SUM(J34:J40) -> 0 | L33: =SUM(L34:L40) -> 0 | N33: =SUM(N34:N40) -> 0
C34: =내역서!A334 -> 01. 기구류 철거공사(위생,공조) | E34: 식 | F34: 1 | H34: =SUM(내역서!F346) -> 0 | J34: =SUM(내역서!H346) -> 0 | L34: =SUM(내역서!J346) -> 0 | N34: =SUM(내역서!L346) -> 0
C35: =내역서!A347 -> 02. 위생기구류 설치공사 | E35: 식 | F35: 1 | H35: =SUM(내역서!F358) -> 0 | J35: =SUM(내역서!H358) -> 0 | L35: =SUM(내역서!J358) -> 0 | N35: =SUM(내역서!L358) -> 0
C36: =내역서!A359 -> 03 급수급탕및 오배수배관공사 | E36: 식 | F36: 1 | H36: =SUM(내역서!F373) -> 0 | J36: =SUM(내역서!H373) -> 0 | L36: =SUM(내역서!J373) -> 0 | N36: =SUM(내역서!L373) -> 0
C37: =내역서!A374 -> 04. 공조용 급,배기덕트 설치공사 | E37: 식 | F37: 1 | H37: =SUM(내역서!F385) -> 0 | J37: =SUM(내역서!H385) -> 0 | L37: =SUM(내역서!J385) -> 0 | N37: =SUM(내역서!L385) -> 0
C38: =내역서!A386 -> 05-1 EHP 이전.신규설치 | E38: 식 | F38: 1 | H38: =내역서!F396 -> 0 | J38: =내역서!H396 -> 0 | L38: =내역서!J396 -> 0 | N38: =내역서!L396 -> 0
C39: =내역서!A397 -> 05-2 EHP 이전.신규 설치 공사류 | E39: 식 | F39: 1 | H39: =내역서!F421 -> 0 | J39: =내역서!H421 -> 0 | L39: =내역서!J421 -> 0 | N39: =내역서!L421 -> 0
C40: =내역서!A422 -> 05-3 EHP 설치 자동제어 시설공사(방재실 운영) | E40: 식 | F40: 1 | H40: =내역서!F430 -> 0 | J40: =내역서!H430 -> 0 | L40: =내역서!J430 -> 0 | N40: =내역서!L430 -> 0
...

Sheet 내역서
A1: 내 역 서
A2: =집계표!C2 -> #REF!
A3: 품 명 | B3: 규 격 | C3: 단위 | D3: 수량 | E3: 재 료 비 | G3: 노 무 비 | I3: 경 비 | K3: 합 계 | M3: 비고
E4: 단가 | F4: 금액 | G4: 단가 | H4: 금액 | I4: 단가 | J4: 금액 | K4: 단가 | L4: 금액
A5: 1. 뇌신경센터이전
A6: 01. 기구류 철거공사(위생,공조)
A7: 세면기 철거 | C7: 조 | D7: 2 | E7: 0 | F7: =TRUNC(D7*E7,0) -> 0 | G7: 0 | H7: =TRUNC(D7*G7,0) -> 0 | I7: 0 | J7: =TRUNC(D7*I7,0) -> 0 | K7: =E7+G7+I7 -> 0 | L7: =F7+H7+J7 -> 0
A8: 싱크대 철거 | C8: 조 | D8: 1 | E8: 0 | F8: =TRUNC(D8*E8,0) -> 0 | G8: 0 | H8: =TRUNC(D8*G8,0) -> 0 | I8: 0 | J8: =TRUNC(D8*I8,0) -> 0 | K8: =E8+G8+I8 -> 0 | L8: =F8+H8+J8 -> 0
A9: 원형 디퓨쟈 철거 | C9: EA | D9: 10 | E9: 0 | F9: =TRUNC(D9*E9,0) -> 0 | G9: 0 | H9: =TRUNC(D9*G9,0) -> 0 | I9: 0 | J9: =TRUNC(D9*I9,0) -> 0 | K9: =E9+G9+I9 -> 0 | L9: =F9+H9+J9 -> 0
A10: 기존배관 하부마감처리 | C10: 조 | D10: 3 | E10: 0 | F10: =TRUNC(D10*E10,0) -> 0 | G10: 0 | H10: =TRUNC(D10*G10,0) -> 0 | I10: 0 | J10: =TRUNC(D10*I10,0) -> 0 | K10: =E10+G10+I10 -> 0 | L10: =F10+H10+J10 -> 0
A11: 플렉시블덕트 철거 | B11: Φ200mm | C11: 개소 | D11: 23 | E11: 0 | F11: =TRUNC(D11*E11,0) -> 0 | G11: 0 | H11: =TRUNC(D11*G11,0) -> 0 | I11: 0 | J11: =TRUNC(D11*I11,0) -> 0 | K11: =E11+G11+I11 -> 0 | L11: =F11+H11+J11 -> 0
A12: 폐기물처리 | C12: 식 | D12: 1 | E12: 0 | F12: =TRUNC(D12*E12,0) -> 0 | G12: 0 | H12: =TRUNC(D12*G12,0) -> 0 | I12: 0 | J12: =TRUNC(D12*I12,0) -> 0 | K12: =E12+G12+I12 -> 0 | L12: =F12+H12+J12 -> 0
A13: 기타 잡자재 | C13: 식 | D13: 1 | E13: 0 | F13: =TRUNC(D13*E13,0) -> 0 | G13: 0 | H13: =TRUNC(D13*G13,0) -> 0 | I13: 0 | J13: =TRUNC(D13*I13,0) -> 0 | K13: =E13+G13+I13 -> 0 | L13: =F13+H13+J13 -> 0
A14: 인건비 | B14: 배관공 | C14: 인 | E14: 0 | F14: =TRUNC(D14*E14,0) -> 0 | G14: 0 | H14: =TRUNC(D14*G14,0) -> 0 | I14: 0 | J14: =TRUNC(D14*I14,0) -> 0 | K14: =E14+G14+I14 -> 0 | L14: =F14+H14+J14 -> 0
A15: 공구손료 | B15: 노무비의 2% | C15: 식 | D15: 1 | E15: 0 | F15: =TRUNC(D15*E15,0) -> 0 | G15: 0 | H15: =TRUNC(D15*G15,0) -> 0 | I15: 0 | J15: =TRUNC(D15*I15,0) -> 0 | K15: =E15+G15+I15 -> 0 | L15: =F15+H15+J15 -> 0
A17: [ 소 계 ] | F17: =SUM(F7:F16) -> 0 | H17: =SUM(H7:H16) -> 0 | J17: =SUM(J7:J16) -> 0 | L17: =SUM(L7:L16) -> 0
A18: 02. 위생기구류 설치및 배관공사
A19: 세면기 | C19: 조 | D19: 7 | E19: 0 | F19: =TRUNC(D19*E19,0) -> 0 | G19: 0 | H19: =TRUNC(D19*G19,0) -> 0 | I19: 0 | J19: =TRUNC(D19*I19,0) -> 0 | K19: =E19+G19+I19 -> 0 | L19: =F19+H19+J19 -> 0
A20: 세면기용 혼합가랑 | C20: SET | D20: 7 | E20: 0 | F20: =TRUNC(D20*E20,0) -> 0 | G20: 0 | H20: =TRUNC(D20*G20,0) -> 0 | I20: 0 | J20: =TRUNC(D20*I20,0) -> 0 | K20: =E20+G20+I20 -> 0 | L20: =F20+H20+J20 -> 0
A21: 세면기 부속재 | C21: SET | D21: 7 | E21: 0 | F21: =TRUNC(D21*E21,0) -> 0 | G21: 0 | H21: =TRUNC(D21*G21,0) -> 0 | I21: 0 | J21: =TRUNC(D21*I21,0) -> 0 | K21: =E21+G21+I21 -> 0 | L21: =F21+H21+J21 -> 0
A22: 거울,수건걸이,비누대 | C22: SET | D22: 7 | E22: 0 | F22: =TRUNC(D22*E22,0) -> 0 | G22: 0 | H22: =TRUNC(D22*G22,0) -> 0 | I22: 0 | J22: =TRUNC(D22*I22,0) -> 0 | K22: =E22+G22+I22 -> 0 | L22: =F22+H22+J22 -> 0
A23: 코아 작업 | B23: 급수,온수,배수 | C23: SET | D23: 7 | E23: 0 | F23: =TRUNC(D23*E23,0) -> 0 | G23: 0 | H23: =TRUNC(D23*G23,0) -> 0 | I23: 0 | J23: =TRUNC(D23*I23,0) -> 0 | K23: =E23+G23+I23 -> 0 | L23: =F23+H23+J23 -> 0
A24: 기타 잡자재 | C24: 식 | D24: 1 | E24: 0 | F24: =TRUNC(D24*E24,0) -> 0 | G24: 0 | H24: =TRUNC(D24*G24,0) -> 0 | I24: 0 | J24: =TRUNC(D24*I24,0) -> 0 | K24: =E24+G24+I24 -> 0 | L24: =F24+H24+J24 -> 0
A25: 인건비 | B25: 배관공 | C25: 인 | E25: 0 | F25: =TRUNC(D25*E25,0) -> 0 | G25: 0 | H25: =TRUNC(D25*G25,0) -> 0 | I25: 0 | J25: =TRUNC(D25*I25,0) -> 0 | K25: =E25+G25+I25 -> 0 | L25: =F25+H25+J25 -> 0
A26: 공구손료 | B26: 노무비의 2% | C26: 식 | D26: 1 | E26: 0 | F26: =TRUNC(D26*E26,0) -> 0 | G26: 0 | H26: =TRUNC(D26*G26,0) -> 0 | I26: 0 | J26: =TRUNC(D26*I26,0) -> 0 | K26: =E26+G26+I26 -> 0 | L26: =F26+H26+J26 -> 0
A28: [ 소 계 ] | F28: =SUM(F19:F27) -> 0 | H28: =SUM(H19:H27) -> 0 | J28: =SUM(J19:J27) -> 0 | L28: =SUM(L19:L27) -> 0
A29: 03 공조용 급,배기덕트 설치공사
A30: 원형 디퓨쟈 | C30: EA | D30: 10 | E30: 0 | F30: =TRUNC(D30*E30,0) -> 0 | G30: 0 | H30: =TRUNC(D30*G30,0) -> 0 | I30: 0 | J30: =TRUNC(D30*I30,0) -> 0 | K30: =E30+G30+I30 -> 0 | L30: =F30+H30+J30 -> 0
A31: 사각 디퓨쟈 | B31: 600x600 | C31: EA | D31: 3 | M31: (도장 재설치)
A32: 덕트 링직설치 | B32: Φ200mm | C32: EA | D32: 23 | E32: 0 | F32: =TRUNC(D32*E32,0) -> 0 | G32: 0 | H32: =TRUNC(D32*G32,0) -> 0 | I32: 0 | J32: =TRUNC(D32*I32,0) -> 0 | K32: =E32+G32+I32 -> 0 | L32: =F32+H32+J32 -> 0
A33: 플렉시블덕트(보온) | B33: Φ200mm | C33: ROOL | D33: 23 | E33: 0 | F33: =TRUNC(D33*E33,0) -> 0 | G33: 0 | H33: =TRUNC(D33*G33,0) -> 0 | I33: 0 | J33: =TRUNC(D33*I33,0) -> 0 | K33: =E33+G33+I33 -> 0 | L33: =F33+H33+J33 -> 0
A34: 스텐밴드 | B34: Φ200mm | C34: EA | D34: 46 | E34: 0 | F34: =TRUNC(D34*E34,0) -> 0 | G34: 0 | H34: =TRUNC(D34*G34,0) -> 0 | I34: 0 | J34: =TRUNC(D34*I34,0) -> 0 | K34: =E34+G34+I34 -> 0 | L34: =F34+H34+J34 -> 0
A35: 기타 잡자재 | C35: 식 | D35: 1 | E35: 0 | F35: =TRUNC(D35*E35,0) -> 0 | G35: 0 | H35: =TRUNC(D35*G35,0) -> 0 | I35: 0 | J35: =TRUNC(D35*I35,0) -> 0 | K35: =E35+G35+I35 -> 0 | L35: =F35+H35+J35 -> 0
A36: 인건비 | B36: 배관공 | C36: 인 | E36: 0 | F36: =TRUNC(D36*E36,0) -> 0 | G36: 0 | H36: =TRUNC(D36*G36,0) -> 0 | I36: 0 | J36: =TRUNC(D36*I36,0) -> 0 | K36: =E36+G36+I36 -> 0 | L36: =F36+H36+J36 -> 0
A37: 공구손료 | B37: 노무비의 2% | C37: 식 | D37: 1 | E37: 0 | F37: =TRUNC(D37*E37,0) -> 0 | G37: 0 | H37: =TRUNC(D37*G37,0) -> 0 | I37: 0 | J37: =TRUNC(D37*I37,0) -> 0 | K37: =E37+G37+I37 -> 0 | L37: =F37+H37+J37 -> 0
A39: [ 소 계 ] | F39: =SUM(F30:F38) -> 0 | H39: =SUM(H30:H38) -> 0 | J39: =SUM(J30:J38) -> 0 | L39: =SUM(L30:L38) -> 0
A40: [ 합 계 ] | F40: =F39+F28+F17 -> 0 | H40: =H39+H28+H17 -> 0 | J40: =J39+J28+J17 -> 0 | L40: =L39+L28+L17 -> 0
A41: 3. 여성센터
A42: 01. 기구류 철거공사(위생,공조)
A43: 세면대 철거 | C43: 조 | D43: 12 | E43: 0 | F43: =TRUNC(D43*E43,0) -> 0 | G43: 0 | H43: =TRUNC(D43*G43,0) -> 0 | I43: 0 | J43: =TRUNC(D43*I43,0) -> 0 | K43: =E43+G43+I43 -> 0 | L43: =F43+H43+J43 -> 0
...
