Workbook

Sheet Sheet2
A1: 진료재료 및 의료소모품 단가계약 규격서
I3: <단위: 원, VAT포함>
A4: NO. | B4: 품목코드 | C4: 품목명 | D4: 규격 | E4: 제조사 | F4: 단위 | G4: EDI코드 | H4: 예정 사용량 | I4: 기초단가 | J4: 예상금액 | K4: 단가배분율
A5: 1 | B5: FFSOCH0002 | C5: 과산화 수소#Sterrad 100NX Cassette(J&J) | D5: =VLOOKUP(B5,[1]마스터!$A$2:$C$34324,3,0) -> 10144(BX/2Cassette) | E5: J&J | F5: BX | H5: 180 | J5: =H5*I5 -> 0 | K5: 0.0011253298
A6: 2 | B6: FFSO900026 | C6: Pink Pad Trendelenburg Positioning Kit#73x51cm(Xodus Medical) | D6: =VLOOKUP(B6,[1]마스터!$A$2:$C$34324,3,0) -> 40580(BX/6EA) | E6: Xodus Medical | F6: BX | H6: 34 | J6: =H6*I6 -> 0 | K6: 0.00098000139
A7: 3 | B7: FFSO900024 | C7: Da Vinci SP#Bipolar Cautery Cord(Intuitive) | D7: =VLOOKUP(B7,[1]마스터!$A$2:$C$34324,3,0) -> 470384 | E7: Intuitive | F7: EA | H7: 6 | J7: =H7*I7 -> 0 | K7: 6.0304674e-05
A8: 4 | B8: FFSO900023 | C8: Da Vinci SP#Monopolar Cautery Cord(Intuitive) | D8: =VLOOKUP(B8,[1]마스터!$A$2:$C$34324,3,0) -> 430068 | E8: Intuitive | F8: EA | H8: 4 | J8: =H8*I8 -> 0 | K8: 4.0203116e-05
A9: 5 | B9: FFSO900020 | C9: Reuse#Da Vinci SP#Cannula 25mm x 100mm(Intuitive) | D9: =VLOOKUP(B9,[1]마스터!$A$2:$C$34324,3,0) -> 430036 | E9: Intuitive | F9: EA | H9: 3 | J9: =H9*I9 -> 0 | K9: 0.00033548042
A10: 6 | B10: FFSO900015 | C10: Da Vinci SP#Monopolar Curved Scissors Tip(Intuitive) | D10: =VLOOKUP(B10,[1]마스터!$A$2:$C$34324,3,0) -> 430035(BX/10EA) | E10: Intuitive | F10: BX | H10: 12 | J10: =H10*I10 -> 0 | K10: 0.00053684476
A11: 7 | B11: FFSO900014 | C11: Da Vinci SP#Entry Guide Kit(Intuitive) | D11: =VLOOKUP(B11,[1]마스터!$A$2:$C$34324,3,0) -> 430022(BX/6EA) | E11: Intuitive | F11: BX | H11: 36 | J11: =H11*I11 -> 0 | K11: 0.001449595
A12: 8 | B12: FFSO900013 | C12: Da Vinci SP#Camera Sheath(Intuitive) | D12: =VLOOKUP(B12,[1]마스터!$A$2:$C$34324,3,0) -> 430020(BX/10EA) | E12: Intuitive | F12: BX | H12: 23 | J12: =H12*I12 -> 0 | K12: 0.00051411161
A13: 9 | B13: FFSO900012 | C13: Da Vinci SP#Instrument Arm Drap(Intuitive) | D13: =VLOOKUP(B13,[1]마스터!$A$2:$C$34324,3,0) -> 430013 | E13: Intuitive | F13: EA | H13: 225 | J13: =H13*I13 -> 0 | K13: 0.003474177
A14: 10 | B14: FFSO900011 | C14: Da Vinci SP#Instrument Sheath(Intuitive) | D14: =VLOOKUP(B14,[1]마스터!$A$2:$C$34324,3,0) -> 430012(BX/30EA) | E14: Intuitive | F14: BX | H14: 33 | J14: =H14*I14 -> 0 | K14: 0.0011069807
A15: 11 | B15: FFSO900010 | C15: Da Vinci SP#Cautery Spatula tip(Intuitive) | D15: =VLOOKUP(B15,[1]마스터!$A$2:$C$34324,3,0) -> 400160(BX/10EA) | E15: Intuitive | F15: BX | H15: 1 | J15: =H15*I15 -> 0 | K15: 4.4737063e-05
A16: 12 | B16: FFSO900009 | C16: Da Vinci SP#Cautery Hook Tip(Intuitive) | D16: =VLOOKUP(B16,[1]마스터!$A$2:$C$34324,3,0) -> 400156(BX/10EA) | E16: Intuitive | F16: BX | H16: 9 | J16: =H16*I16 -> 0 | K16: 0.00040263357
... A27: 23 | B27: FFSO801011 | C27: Slimline SIS 200Fiber#0644-017-01(Lumenis) | D27: =VLOOKUP(B27,[1]마스터!$A$2:$C$34324,3,0) -> 0644-017-01 | E27: Lumenis | F27: EA | H27: 2 | J27: =H27*I27 -> 0 | K27: 0.00010999074
A28: 24 | B28: FFSO801010 | C28: Ligasure Blunt Tip Sealer/Divider#5mm(Covidien) | D28: =VLOOKUP(B28,[1]마스터!$A$2:$C$34324,3,0) -> LF1837 | E28: Covidien | F28: EA | G28: M2044587 | H28: 2 | J28: =H28*I28 -> 0 | K28: 3.7598618e-05
A29: 25 | B29: FFSO801009 | C29: UDS,Measurement Tubing#150cm(Laborie) | D29: =VLOOKUP(B29,[1]마스터!$A$2:$C$34324,3,0) -> TUB101 | E29: Laborie | F29: EA | H29: 633 | J29: =H29*I29 -> 0 | K29: 0.00045978206
A30: 26 | B30: FFSO801008 | C30: UDS,Pump Tubing Infusion Line#400cm(Laborie) | D30: =VLOOKUP(B30,[1]마스터!$A$2:$C$34324,3,0) -> TUB500 | E30: Laborie | F30: EA | H30: 211 | J30: =H30*I30 -> 0 | K30: 0.00022350517
A31: 27 | B31: FFSO801007 | C31: UDS,Transducer Cartridge with Luer Lock(Laborie) | D31: =VLOOKUP(B31,[1]마스터!$A$2:$C$34324,3,0) -> DIS130 | E31: Laborie | F31: EA | H31: 630 | J31: =H31*I31 -> 0 | K31: 0.00051480338
A32: 28 | B32: FFSO801006 | C32: Encor,Vaccum Tubing Set(Bard) | D32: =VLOOKUP(B32,[1]마스터!$A$2:$C$34324,3,0) -> SCTUB3000 | E32: Bard | F32: EA | H32: 7 | J32: =H32*I32 -> 0 | K32: 6.6582447e-06
A33: 29 | B33: FFSO801005 | C33: Encor,Rinse Tubing Set(Bard) | D33: =VLOOKUP(B33,[1]마스터!$A$2:$C$34324,3,0) -> RINSETUB | E33: Bard | F33: EA | H33: 7 | J33: =H33*I33 -> 0 | K33: 5.8592554e-06
A34: 30 | B34: FFSO800986 | C34: Ligasure Maryland Jaw#Curved#37cm(Covidien) | D34: =VLOOKUP(B34,[1]마스터!$A$2:$C$34324,3,0) -> LF1937 | E34: Covidien | F34: EA | G34: M2044687 | H34: 45 | J34: =H34*I34 -> 0 | K34: 0.00086223404
A35: 31 | B35: FFSO800984 | C35: 조영제주입기#Pump Tube#XD8003(Ulrich medical) | D35: =VLOOKUP(B35,[1]마스터!$A$2:$C$34324,3,0) -> XD8003 | E35: Ulrich medical | F35: EA | H35: 800 | J35: =H35*I35 -> 0 | K35: 0.00076094225
A36: 32 | B36: FFSO800967 | C36: Cannula With Filter#Adult(Noxmedical) | D36: =VLOOKUP(B36,[1]마스터!$A$2:$C$34324,3,0) -> 552010(BX/40EA) | E36: Noxmedical | F36: BX | H36: 11 | J36: =H36*I36 -> 0 | K36: 0.00013982314
A37: 33 | B37: FFSO800946 | C37: Subdermal Needle#1.5m(Technomed Europe) | D37: =VLOOKUP(B37,[1]마스터!$A$2:$C$34324,3,0) -> S43-638(BX/25EA) | E37: Technomed Europe | F37: BX | H37: 13 | J37: =H37*I37 -> 0 | K37: 7.419187e-05
A38: 34 | B38: FFSO800939 | C38: NObreath Mouth Piece#All Size(Bedfont) | D38: =VLOOKUP(B38,[1]마스터!$A$2:$C$34324,3,0) -> (BX/50EA) | E38: Bedfont | F38: BX | H38: 17 | J38: =H38*I38 -> 0 | K38: 0.00046893066
A39: 35 | B39: FFSO800933 | C39: Cough Assist Breathing Systems#Medium(Intersurgical) | D39: =VLOOKUP(B39,[1]마스터!$A$2:$C$34324,3,0) -> 5001006 | E39: Intersurgical | F39: EA | H39: 600 | J39: =H39*I39 -> 0 | K39: 0.00045656535
A40: 36 | B40: FFSO800929 | C40: Pulsavac Plus Tip#5150-182(Zimmer) | D40: =VLOOKUP(B40,[1]마스터!$A$2:$C$34324,3,0) -> 5150-182(BX/10EA) | E40: Zimmer | F40: BX | H40: 1 | J40: =H40*I40 -> 0 | K40: 1.0621486e-05
A41: 37 | B41: FFSO800928 | C41: Special Autoclavable Oil#40ml(Syntehs) | D41: =VLOOKUP(B41,[1]마스터!$A$2:$C$34324,3,0) -> 519.97 | E41: Synthes | F41: EA | H41: 8 | J41: =H41*I41 -> 0 | K41: 1.0145897e-05
A42: 38 | B42: FFSO800927 | C42: 정액#Oval Burr, 8Flute, 5.0mmx13cm#Arthroscope Shaver(Arthrex) | D42: =VLOOKUP(B42,[1]마스터!$A$2:$C$34324,3,0) -> AR-8500FOE | E42: Arthrex | F42: EA | H42: 15 | J42: =H42*I42 -> 0 | K42: 9.5117782e-05
A43: 39 | B43: FFSO800921 | C43: 정액#Perforator Drill 14mm(Codman) | D43: =VLOOKUP(B43,[1]마스터!$A$2:$C$34324,3,0) -> 26-1221 | E43: Codman | F43: EA | H43: 2 | J43: =H43*I43 -> 0 | K43: 1.0462956e-05
A44: 40 | B44: FFSO800911 | C44: Aquapak Set#340ml(Hudson) | D44: =VLOOKUP(B44,[1]마스터!$A$2:$C$34324,3,0) -> 003-40 | E44: HUDSON | F44: EA | H44: 28976 | J44: =H44*I44 -> 0 | K44: 0.0031737287
A45: 41 | B45: FFSO800908 | C45: FES Pad#50*50mm(휴레브) | D45: =VLOOKUP(B45,[1]마스터!$A$2:$C$34324,3,0) -> HRTS50AP(PK/4EA) | E45: 휴레브 | F45: PK | H45: 270 | J45: =H45*I45 -> 0 | K45: 3.4242401e-05
A46: 42 | B46: FFSO800907 | C46: Encor System Biopsy Probe#10g(Bard) | D46: =VLOOKUP(B46,[1]마스터!$A$2:$C$34324,3,0) -> 10g | E46: Bard | F46: EA | G46: BM0002GU | H46: 5 | J46: =H46*I46 -> 0 | K46: 5.0441248e-05
A47: 43 | B47: FFSO800906 | C47: Encor System Biopsy Probe#7g(Bard) | D47: =VLOOKUP(B47,[1]마스터!$A$2:$C$34324,3,0) -> 7g | E47: Bard | F47: EA | G47: BM0002GU | H47: 2 | J47: =H47*I47 -> 0 | K47: 2.0176499e-05
A48: 44 | B48: FFSO800904 | C48: Gafchromic Film EBT3#8"*10"(Ashland) | D48: =VLOOKUP(B48,[1]마스터!$A$2:$C$34324,3,0) -> 8"*10"(BX/25EA) | E48: Ashland | F48: BX | H48: 1 | J48: =H48*I48 -> 0 | K48: 3.5741227e-05
A49: 45 | B49: FFSO800889 | C49: 정액#Blade＃Micro saws＃185S90-04F (Midas Rex) | D49: =VLOOKUP(B49,[1]마스터!$A$2:$C$34324,3,0) -> 185S90-04F | E49: Medtronic | F49: EA | H49: 5 | J49: =H49*I49 -> 0 | K49: 1.5852964e-05
A50: 46 | B50: FFSO800883 | C50: 항문경Kit#Anoscope#110mm(BX/25EA)(썸텍) | D50: =VLOOKUP(B50,[1]마스터!$A$2:$C$34324,3,0) -> 110mm(BX/25EA) | E50: 썸텍 | F50: BX | H50: 12 | J50: =H50*I50 -> 0 | K50: 4.8423598e-05
A51: 47 | B51: FFSO800882 | C51: Small Jaw＃Ligasure(Covidien)-선별급여 | D51: =VLOOKUP(B51,[1]마스터!$A$2:$C$34324,3,0) -> LF1212 | E51: Covidien | F51: EA | G51: M2045287 | H51: 4 | J51: =H51*I51 -> 0 | K51: 7.2267608e-05
A52: 48 | B52: FFSO800881 | C52: Arthrowand Starvac 90 | D52: =VLOOKUP(B52,[1]마스터!$A$2:$C$34324,3,0) -> ASC4251-01 | E52: Arthrocare | F52: EA | H52: 45 | J52: =H52*I52 -> 0 | K52: 0.00071338336
A53: 49 | B53: FFSO800873 | C53: 환자고정기구#Bolx I Gel Bolus With Film#30*30*1cm(Qfix) | D53: =VLOOKUP(B53,[1]마스터!$A$2:$C$34324,3,0) -> RT-31102 | E53: Qfix | F53: EA | H53: 5 | J53: =H53*I53 -> 0 | K53: 1.945591e-05
A54: 50 | B54: FFSO800872 | C54: Irrigation Tubing Set MALIS#All Size(Codman) | D54: =VLOOKUP(B54,[1]마스터!$A$2:$C$34324,3,0) -> All Size | E54: Codman | F54: EA | H54: 10 | J54: =H54*I54 -> 0 | K54: 2.0176499e-05
A55: 51 | B55: FFSO800871 | C55: Ultrasound Needle Guide#610-1231 18-25g(Civco) | D55: =VLOOKUP(B55,[1]마스터!$A$2:$C$34324,3,0) -> 610-1231 18-25g(BX/24EA) | E55: Civco | F55: EA | H55: 240 | J55: =H55*I55 -> 0 | K55: 0.00019023556
A56: 52 | B56: FFSO800867 | C56: Hand Switching Ligasure ATLAS#10mm(Covidien) | D56: =VLOOKUP(B56,[1]마스터!$A$2:$C$34324,3,0) -> LS1037 | E56: Covidien | F56: EA | H56: 4 | J56: =H56*I56 -> 0 | K56: 7.5197236e-05
A57: 53 | B57: FFSO800865 | C57: 인공호흡기필터#SafeStar Plus#Adult(Drager) | D57: =VLOOKUP(B57,[1]마스터!$A$2:$C$34324,3,0) -> MP05785(BX/100EA) | E57: Drager | F57: BX | H57: 56 | J57: =H57*I57 -> 0 | K57: 0.0010007544
A58: 54 | B58: FFSO800857 | C58: 정액#3.5mm RAD 120 Blade#1883517(Medtronic)E.N.T | D58: =VLOOKUP(B58,[1]마스터!$A$2:$C$34324,3,0) -> 1883517 | E58: Medtronic | F58: EA | G58: N0051013 | H58: 12 | J58: =H58*I58 -> 0 | K58: 0.00012797665
A59: 55 | B59: FFSO800854 | C59: 정액#RAD 90 Curved blade 4mm#1883519HR(Medtronic)E.N.T | D59: =VLOOKUP(B59,[1]마스터!$A$2:$C$34324,3,0) -> 1883519HR(BX/3EA) | E59: Medtronic | F59: EA | G59: N0051013 | H59: 24 | J59: =H59*I59 -> 0 | K59: 0.00020752971
A60: 56 | B60: FFSO800852 | C60: 정액#RAD 40 Curved blade 4mm#1884006HR(Medtronic)E.N.T | D60: =VLOOKUP(B60,[1]마스터!$A$2:$C$34324,3,0) -> 1884006HR | E60: Medtronic | F60: EA | G60: N0051013 | H60: 5 | J60: =H60*I60 -> 0 | K60: 4.3235355e-05
A61: 57 | B61: FFSO800851 | C61: 정액#Tricut blade 4mm#1884004HR(Medtronic)E.N.T | D61: =VLOOKUP(B61,[1]마스터!$A$2:$C$34324,3,0) -> 1884004HR | E61: Medtronic | F61: EA | G61: N0051013 | H61: 15 | J61: =H61*I61 -> 0 | K61: 0.00012970607
A62: 58 | B62: FFSO800817 | C62: Indigo Tubing#1845030(Medtronic)E.N.T | D62: =VLOOKUP(B62,[1]마스터!$A$2:$C$34324,3,0) -> 1845030(BX/5EA) | E62: Medtronic | F62: EA | H62: 5 | J62: =H62*I62 -> 0 | K62: 2.1617678e-05
A63: 59 | B63: FFSO800811 | C63: Pras Standard Monopolar Stimulator Probe#8225101(Medtronic) | D63: =VLOOKUP(B63,[1]마스터!$A$2:$C$34324,3,0) -> 8225101(BX/5EA) | E63: Medtronic | F63: EA | H63: 16 | J63: =H63*I63 -> 0 | K63: 4.4503592e-05
A64: 60 | B64: FFSO800777 | C64: Oxysensor SPO2 Disposable/Nellcor-정품(Covidien) | D64: =VLOOKUP(B64,[1]마스터!$A$2:$C$34324,3,0) -> MAX-N | E64: Covidien | F64: EA | G64: L9001002 | H64: 13739 | J64: =H64*I64 -> 0 | K64: 0.003041334
A65: 61 | B65: FFSO800768 | C65: 정액#Blade#Sabre,SJ#AR-7200SR(Arthrex) | D65: =VLOOKUP(B65,[1]마스터!$A$2:$C$34324,3,0) -> AR-7200SR | E65: Arthrex | F65: EA | G65: N0031003 | H65: 13 | J65: =H65*I65 -> 0 | K65: 8.2435411e-05
A66: 62 | B66: FFSO800701 | C66: 정액#Bur#Dissecting Tool#10BA40 (Midas Rex) | D66: =VLOOKUP(B66,[1]마스터!$A$2:$C$34324,3,0) -> 10BA40 | E66: Medtronic | F66: EA | H66: 5 | J66: =H66*I66 -> 0 | K66: 3.1919222e-05
A67: 63 | B67: FFSO800700 | C67: Filter#Pneumoclean Electret(Atom) | D67: =VLOOKUP(B67,[1]마스터!$A$2:$C$34324,3,0) -> 60269(BX/5EA) | E67: Atom | F67: EA | H67: 10 | J67: =H67*I67 -> 0 | K67: 1.2682371e-05
A68: 64 | B68: FFSO800697 | C68: Tube#Intra Oral(Pentax)#006611 | D68: =VLOOKUP(B68,[1]마스터!$A$2:$C$34324,3,0) -> 006611(BX/50EA) | E68: Pentax | F68: EA | H68: 200 | J68: =H68*I68 -> 0 | K68: 5.764714e-05
A69: 65 | B69: FFSO800686 | C69: 정액#Blade#Micro saws#150S70-04F (Midas Rex) | D69: =VLOOKUP(B69,[1]마스터!$A$2:$C$34324,3,0) -> 150S70-04F | E69: Medtronic | F69: EA | H69: 3 | J69: =H69*I69 -> 0 | K69: 9.5117782e-06
A70: 66 | B70: FFSO800664 | C70: 정액#Bur#Dissecting Tool#10BA30 (Midas Rex) | D70: =VLOOKUP(B70,[1]마스터!$A$2:$C$34324,3,0) -> 10BA30 | E70: Medtronic | F70: EA | H70: 10 | J70: =H70*I70 -> 0 | K70: 6.3838443e-05
A71: 67 | B71: FFSO800661 | C71: 정액#Bur#Dissecting Tool#10BA10 (Midas Rex) | D71: =VLOOKUP(B71,[1]마스터!$A$2:$C$34324,3,0) -> 10BA10 | E71: Medtronic | F71: EA | H71: 2 | J71: =H71*I71 -> 0 | K71: 1.2767689e-05
A72: 68 | B72: FFSO800619 | C72: Cassette#Core Irrigation(Stryker) | D72: =VLOOKUP(B72,[1]마스터!$A$2:$C$34324,3,0) -> 5400-050-001 | E72: STRYKER | F72: EA | H72: 5 | J72: =H72*I72 -> 0 | K72: 1.2970607e-05
A73: 69 | B73: FFSO800597 | C73: Spray#Oil,Contraclean (Stryker) | D73: =VLOOKUP(B73,[1]마스터!$A$2:$C$34324,3,0) -> 260-901-739 | E73: Stryker | F73: EA | H73: 0 | J73: =H73*I73 -> 0 | K73: 0
A74: 70 | B74: FFSO800588 | C74: 정액#Burr, Round, SJ, 8Flute, 3.0mmx7cm#Arthroscope Shaver(Arthrex)#AR-7300RBE | D74: =VLOOKUP(B74,[1]마스터!$A$2:$C$34324,3,0) -> AR-7300RBE | E74: Arthrex | F74: EA | H74: 6 | J74: =H74*I74 -> 0 | K74: 3.8047113e-05
A75: 71 | B75: FFSO800587 | C75: 정액#Round Burr, 8Flute, 4.0mmx13cm#Arthroscope Shaver(Arthrex) | D75: =VLOOKUP(B75,[1]마스터!$A$2:$C$34324,3,0) -> AR-8400RBE | E75: Arthrex | F75: EA | H75: 10 | J75: =H75*I75 -> 0 | K75: 6.3411855e-05
A76: 72 | B76: FFSO800584 | C76: 정액#Dissector, 5.0mmx13cm#Arthroscope Shaver(Arthrex)#AR-8500DS | D76: =VLOOKUP(B76,[1]마스터!$A$2:$C$34324,3,0) -> AR-8500DS | E76: Arthrex | F76: EA | H76: 25 | J76: =H76*I76 -> 0 | K76: 0.00015852964
A77: 73 | B77: FFSO800583 | C77: 정액#Dissector, SJ, 3.0mmx7cm#Arthroscope Shaver(Arthrex)#AR-7300DS | D77: =VLOOKUP(B77,[1]마스터!$A$2:$C$34324,3,0) -> AR-7300DS | E77: Arthrex | F77: EA | H77: 6 | J77: =H77*I77 -> 0 | K77: 3.8047113e-05
A78: 74 | B78: FFSO800582 | C78: 정액#Dissector, 4.0mm x 13cm#Arthroscope Shaver(Arthrex)#AR-8400DS | D78: =VLOOKUP(B78,[1]마스터!$A$2:$C$34324,3,0) -> AR-8400DS | E78: Arthrex | F78: EA | G78: N0031003 | H78: 20 | J78: =H78*I78 -> 0 | K78: 0.00012682371
A79: 75 | B79: FFSO800575 | C79: 정액#Sabre,4.0mmx13cm#Arthroscope Shaver(Arthrex)#AR-8400SR | D79: =VLOOKUP(B79,[1]마스터!$A$2:$C$34324,3,0) -> AR-8400SR | E79: Arthrex | F79: EA | G79: N0031003 | H79: 40 | J79: =H79*I79 -> 0 | K79: 0.00025364742
A80: 76 | B80: FFSO800571 | C80: 정액#Main Tubing#Irrigation Tubing Set(Arthrex) | D80: =VLOOKUP(B80,[1]마스터!$A$2:$C$34324,3,0) -> AR-6410 | E80: Arthrex | F80: EA | G80: N0031003 | H80: 110 | J80: =H80*I80 -> 0 | K80: 0.00041851824
A81: 77 | B81: FFSO800568 | C81: Flex APC Probe-2200A#Argon Probe(Erbe) | D81: =VLOOKUP(B81,[1]마스터!$A$2:$C$34324,3,0) -> 20132-221 | E81: Erbe | F81: EA | G81: N0041001 | H81: 5 | J81: =H81*I81 -> 0 | K81: 3.487652e-05
A82: 78 | B82: FFSO800563 | C82: Arthrowand Microblator 30' 1.44mm | D82: =VLOOKUP(B82,[1]마스터!$A$2:$C$34324,3,0) -> AC4050-01 | E82: Arthrocare | F82: EA | H82: 15 | J82: =H82*I82 -> 0 | K82: 0.00023779445
A83: 79 | B83: FFSO800559 | C83: SEP Plasma Lable Indicator | D83: =VLOOKUP(B83,[1]마스터!$A$2:$C$34324,3,0) -> (BX/10RL/1000EA) | E83: SEP | F83: RL | H83: 40 | J83: =H83*I83 -> 0 | K83: 2.2828268e-05
A84: 80 | B84: FFSO800558 | C84: SEP EO Lable Indicator | D84: =VLOOKUP(B84,[1]마스터!$A$2:$C$34324,3,0) -> (BX/10RL/1000EA) | E84: SEP | F84: RL | H84: 115 | J84: =H84*I84 -> 0 | K84: 2.9898689e-05
A85: 81 | B85: FFSO800556 | C85: SEP STEAM Lable Indicator | D85: =VLOOKUP(B85,[1]마스터!$A$2:$C$34324,3,0) -> (BX/10RL/1000EA) | E85: SEP | F85: RL | H85: 870 | J85: =H85*I85 -> 0 | K85: 0.00022619009
A86: 82 | B86: FFSO800499 | C86: Octopus Electrode#RF coagulation(스타메드) | D86: =VLOOKUP(B86,[1]마스터!$A$2:$C$34324,3,0) -> ALL SIZE | E86: 스타메드 | F86: EA | G86: M2060031 | H86: 2 | J86: =H86*I86 -> 0 | K86: 5.1386661e-05
A87: 83 | B87: FFSO800497 | C87: EEG Electrode(GRASS) | D87: =VLOOKUP(B87,[1]마스터!$A$2:$C$34324,3,0) -> #FS-E5GH-48 | E87: Grass Technologies | F87: ST | H87: 10 | J87: =H87*I87 -> 0 | K87: 7.0617747e-05
A88: 84 | B88: FFSO800490 | C88: 정액#Saw Blade#Preecision 105mm(Stryker) | D88: =VLOOKUP(B88,[1]마스터!$A$2:$C$34324,3,0) -> #6525-127-105 | E88: Stryker | F88: EA | H88: 40 | J88: =H88*I88 -> 0 | K88: 0.00029976513
A89: 85 | B89: FFSO800485 | C89: Gold Foil Foam Tip#Pediatric(EchoG) | D89: =VLOOKUP(B89,[1]마스터!$A$2:$C$34324,3,0) -> 101111(PK/20EA) | E89: Biologic | F89: PK | H89: 23 | J89: =H89*I89 -> 0 | K89: 5.966479e-05
A90: 86 | B90: FFSO800484 | C90: Gold Foil Foam Tip#Adult(EchoG) | D90: =VLOOKUP(B90,[1]마스터!$A$2:$C$34324,3,0) -> 101113(PK/20EA) | E90: Biologic | F90: PK | H90: 2 | J90: =H90*I90 -> 0 | K90: 5.1882426e-06
A91: 87 | B91: FFSO800477 | C91: Needle Electrodes,Single#IOM(Medtronic) | D91: =VLOOKUP(B91,[1]마스터!$A$2:$C$34324,3,0) -> #DSN1299(BX/24ea) | E91: Medtronic | F91: BX | H91: 1 | J91: =H91*I91 -> 0 | K91: 8.9583656e-06
A92: 88 | B92: FFSO800471 | C92: MediFilter(폐기능) | D92: =VLOOKUP(B92,[1]마스터!$A$2:$C$34324,3,0) -> All Size(BX/100EA) | E92: ALERKAN | F92: BX | H92: 120 | J92: =H92*I92 -> 0 | K92: 0.00058800083
A93: 89 | B93: FFSO800457 | C93: T-Piece#T-Tubing(Hudson) | D93: =VLOOKUP(B93,[1]마스터!$A$2:$C$34324,3,0) -> #All Size | E93: HUDSON | F93: EA | H93: 464 | J93: =H93*I93 -> 0 | K93: 9.2281542e-05
A94: 90 | B94: FFSO800456 | C94: T-Piece#Aquapak Set(Hudson) | D94: =VLOOKUP(B94,[1]마스터!$A$2:$C$34324,3,0) -> Water(1070ml)&Nebuliser Adaptor(404128) | E94: HUDSON | F94: EA | H94: 410 | J94: =H94*I94 -> 0 | K94: 0.00015362963
A95: 91 | B95: FFSO800455 | C95: T-Piece#Aquapak Water/1070ml(Hudson) | D95: =VLOOKUP(B95,[1]마스터!$A$2:$C$34324,3,0) -> 404000 | E95: HUDSON | F95: EA | H95: 115 | J95: =H95*I95 -> 0 | K95: 2.5026065e-05
A96: 92 | B96: FFSO800448 | C96: Pad#VitalStim Electrode(소아용) | D96: =VLOOKUP(B96,[1]마스터!$A$2:$C$34324,3,0) -> #5905(PK/4EA) | E96: DJO LLC | F96: ST | H96: 10 | J96: =H96*I96 -> 0 | K96: 3.4588284e-06
A97: 93 | B97: FFSO800447 | C97: Pad#VitalStim Electrode(성인용) | D97: =VLOOKUP(B97,[1]마스터!$A$2:$C$34324,3,0) -> #5900(PK/4EA) | E97: DJO LLC | F97: ST | H97: 150 | J97: =H97*I97 -> 0 | K97: 5.1882426e-05
A98: 94 | B98: FFSO800369 | C98: EMG#Dis. Ground Electrode(Carefusion) | D98: =VLOOKUP(B98,[1]마스터!$A$2:$C$34324,3,0) -> #019-400500(BX/24EA) | E98: Carefusion | F98: BX | H98: 26 | J98: =H98*I98 -> 0 | K98: 5.1859368e-05
A99: 95 | B99: FFSO800347 | C99: 정액#SlimLine SIS 550 Micron Fiber#VersaPulse Laser(Lumenis) | D99: =VLOOKUP(B99,[1]마스터!$A$2:$C$34324,3,0) -> 0644-021-01 | E99: Lumenis | F99: EA | G99: N0091001 | H99: 1 | J99: =H99*I99 -> 0 | K99: 2.7382392e-05
A100: 96 | B100: FFSO800344 | C100: Contamination Guard#Cusa Excel(Integra) | D100: =VLOOKUP(B100,[1]마스터!$A$2:$C$34324,3,0) -> C0005(BX/2EA) | E100: INTEGRA | F100: EA | H100: 10 | J100: =H100*I100 -> 0 | K100: 9.454131e-05
A101: 97 | B101: FFSO800330 | C101: Ear Plug#MRI-귀마개(3M) | D101: =VLOOKUP(B101,[1]마스터!$A$2:$C$34324,3,0) -> #1100(BX/200EA) | E101: 3M | F101: BX | H101: 57 | J101: =H101*I101 -> 0 | K101: 6.571774e-05
A102: 98 | B102: FFSO800327 | C102: 정액#Bur#MH Cutting#2.5mm(NSK) | D102: =VLOOKUP(B102,[1]마스터!$A$2:$C$34324,3,0) -> PDS-1MHC155-25 | E102: NSK | F102: EA | H102: 3 | J102: =H102*I102 -> 0 | K102: 2.2482385e-05
A103: 99 | B103: FFSO800309 | C103: Nirsiton Oximeter Sensor(양측형)(OBELAB) | D103: =VLOOKUP(B103,[1]마스터!$A$2:$C$34324,3,0) -> PH7-L40A-LED | E103: OBELAB | F103: EA | G103: H4501175 | H103: 23 | J103: =H103*I103 -> 0 | K103: 5.3817641e-05
A104: 100 | B104: FFSO800306 | C104: Flowmaster Cartridge Disposable Set#깔때기&컵(메디콘) | D104: =VLOOKUP(B104,[1]마스터!$A$2:$C$34324,3,0) -> 18070(BX/100Set) | E104: 메디콘 | F104: BX | H104: 4 | J104: =H104*I104 -> 0 | K104: 3.447299e-05
A105: 101 | B105: FFSO800289 | C105: Irrigation Tube Set(Misonix) | D105: =VLOOKUP(B105,[1]마스터!$A$2:$C$34324,3,0) -> MXB-T | E105: Misonix | F105: EA | H105: 5 | J105: =H105*I105 -> 0 | K105: 1.3691196e-05
A106: 102 | B106: FFSO800283 | C106: 정액#BoneScalpelTip#20mm(Misonix) | D106: =VLOOKUP(B106,[1]마스터!$A$2:$C$34324,3,0) -> MXB-20 | E106: Misonix | F106: EA | H106: 3 | J106: =H106*I106 -> 0 | K106: 5.1017719e-05
A107: 103 | B107: FFSO800282 | C107: 정액#BoneScalpelTip#10mm(Misonix) | D107: =VLOOKUP(B107,[1]마스터!$A$2:$C$34324,3,0) -> MXB-10 | E107: Misonix | F107: EA | H107: 3 | J107: =H107*I107 -> 0 | K107: 5.1017719e-05
A108: 104 | B108: FFSO800276 | C108: Echoplex+#21g*100mm(Vygon) | D108: =VLOOKUP(B108,[1]마스터!$A$2:$C$34324,3,0) -> 6194.103 | E108: Vygon | F108: EA | H108: 317 | J108: =H108*I108 -> 0 | K108: 0.00025528979
A109: 105 | B109: FFSO800265 | C109: 정액#Saw Blade#Stryker Type(Sciencemedic) | D109: =VLOOKUP(B109,[1]마스터!$A$2:$C$34324,3,0) -> HCR505B | E109: Sciencemedic | F109: EA | G109: N0051001 | H109: 180 | J109: =H109*I109 -> 0 | K109: 0.00021790619
A110: 106 | B110: FFSO800257 | C110: 정액#Bur#Dissecting Tool | D110: =VLOOKUP(B110,[1]마스터!$A$2:$C$34324,3,0) -> 9MH30 | E110: Medtronic | F110: EA | H110: 10 | J110: =H110*I110 -> 0 | K110: 6.3838443e-05
A111: 107 | B111: FFSO800255 | C111: ACT Cuvette#Hemochron Signature(I.T.C) | D111: =VLOOKUP(B111,[1]마스터!$A$2:$C$34324,3,0) -> JACT+(BX/45EA) | E111: I.T.C | F111: BX | H111: 38 | J111: =H111*I111 -> 0 | K111: 0.00029572983
...
