Workbook

Sheet Sheet2
A1: 진료재료 및 의료소모품 단가계약 규격서
I3: <단위: 원, VAT포함>
A4: NO. | B4: 품목코드 | C4: 품목명 | D4: 규격 | E4: 제조사 | F4: 단위 | G4: EDI코드 | H4: 예정 사용량 | I4: 기초단가 | J4: 예상금액 | K4: 단가배분율
A5: 1 | B5: FFSOCH0002 | C5: 과산화 수소#Sterrad 100NX Cassette(J&J) | D5: =VLOOKUP(B5,[1]마스터!$A$2:$C$34324,3,0) -> 10144(BX/2Cassette) | E5: J&J | F5: BX | H5: 180 | J5: =H5*I5 -> 0 | K5: 0.0011253298
A6: 2 | B6: FFSO900026 | C6: Pink Pad Trendelenburg Positioning Kit#73x51cm(Xodus Medical) | D6: =VLOOKUP(B6,[1]마스터!$A$2:$C$34324,3,0) -> 40580(BX/6EA) | E6: Xodus Medical | F6: BX | H6: 34 | J6: =H6*I6 -> 0 | K6: 0.00098000139
A7: 3 | B7: FFSO900024 | C7: Da Vinci SP#Bipolar Cautery Cord(Intuitive) | D7: =VLOOKUP(B7,[1]마스터!$A$2:$C$34324,3,0) -> 470384 | E7: Intuitive | F7: EA | H7: 6 | J7: =H7*I7 -> 0 | K7: 6.0304674e-05
A8: 4 | B8: FFSO900023 | C8: Da Vinci SP#Monopolar Cautery Cord(Intuitive) | D8: =VLOOKUP(B8,[1]마스터!$A$2:$C$34324,3,0) -> 430068 | E8: Intuitive | F8: EA | H8: 4 | J8: =H8*I8 -> 0 | K8: 4.0203116e-05
A9: 5 | B9: FFSO900020 | C9: Reuse#Da Vinci SP#Cannula 25mm x 100mm(Intuitive) | D9: =VLOOKUP(B9,[1]마스터!$A$2:$C$34324,3,0) -> 430036 | E9: Intuitive | F9: EA | H9: 3 | J9: =H9*I9 -> 0 | K9: 0.00033548042
A10: 6 | B10: FFSO900015 | C10: Da Vinci SP#Monopolar Curved Scissors Tip(Intuitive) | D10: =VLOOKUP(B10,[1]마스터!$A$2:$C$34324,3,0) -> 430035(BX/10EA) | E10: Intuitive | F10: BX | H10: 12 | J10: =H10*I10 -> 0 | K10: 0.00053684476
A11: 7 | B11: FFSO900014 | C11: Da Vinci SP#Entry Guide Kit(Intuitive) | D11: =VLOOKUP(B11,[1]마스터!$A$2:$C$34324,3,0) -> 430022(BX/6EA) | E11: Intuitive | F11: BX | H11: 36 | J11: =H11*I11 -> 0 | K11: 0.001449595
A12: 8 | B12: FFSO900013 | C12: Da Vinci SP#Camera Sheath(Intuitive) | D12: =VLOOKUP(B12,[1]마스터!$A$2:$C$34324,3,0) -> 430020(BX/10EA) | E12: Intuitive | F12: BX | H12: 23 | J12: =H12*I12 -> 0 | K12: 0.00051411161
A13: 9 | B13: FFSO900012 | C13: Da Vinci SP#Instrument Arm Drap(Intuitive) | D13: =VLOOKUP(B13,[1]마스터!$A$2:$C$34324,3,0) -> 430013 | E13: Intuitive | F13: EA | H13: 225 | J13: =H13*I13 -> 0 | K13: 0.003474177
A14: 10 | B14: FFSO900011 | C14: Da Vinci SP#Instrument Sheath(Intuitive) | D14: =VLOOKUP(B14,[1]마스터!$A$2:$C$34324,3,0) -> 430012(BX/30EA) | E14: Intuitive | F14: BX | H14: 33 | J14: =H14*I14 -> 0 | K14: 0.0011069807
A15: 11 | B15: FFSO900010 | C15: Da Vinci SP#Cautery Spatula tip(Intuitive) | D15: =VLOOKUP(B15,[1]마스터!$A$2:$C$34324,3,0) -> 400160(BX/10EA) | E15: Intuitive | F15: BX | H15: 1 | J15: =H15*I15 -> 0 | K15: 4.4737063e-05
A16: 12 | B16: FFSO900009 | C16: Da Vinci SP#Cautery Hook Tip(Intuitive) | D16: =VLOOKUP(B16,[1]마스터!$A$2:$C$34324,3,0) -> 400156(BX/10EA) | E16: Intuitive | F16: BX | H16: 9 | J16: =H16*I16 -> 0 | K16: 0.00040263357
... A27: 23 | B27: FFSO801011 | C27: Slimline SIS 200Fiber#0644-017-01(Lumenis) | D27: =VLOOKUP(B27,[1]마스터!$A$2:$C$34324,3,0) -> 0644-017-01 | E27: Lumenis | F27: EA | H27: 2 | J27: =H27*I27 -> 0 | K27: 0.00010999074
A28: 24 | B28: FFSO801010 | C28: Ligasure Blunt Tip Sealer/Divider#5mm(Covidien) | D28: =VLOOKUP(B28,[1]마스터!$A$2:$C$34324,3,0) -> LF1837 | E28: Covidien | F28: EA | G28: M2044587 | H28: 2 | J28: =H28*I28 -> 0 | K28: 3.7598618e-05
A29: 25 | B29: FFSO801009 | C29: UDS,Measurement Tubing#150cm(Laborie) | D29: =VLOOKUP(B29,[1]마스터!$A$2:$C$34324,3,0) -> TUB101 | E29: Laborie | F29: EA | H29: 633 | J29: =H29*I29 -> 0 | K29: 0.00045978206
A30: 26 | B30: FFSO801008 | C30: UDS,Pump Tubing Infusion Line#400cm(Laborie) | D30: =VLOOKUP(B30,[1]마스터!$A$2:$C$34324,3,0) -> TUB500 | E30: Laborie | F30: EA | H30: 211 | J30: =H30*I30 -> 0 | K30: 0.00022350517
A31: 27 | B31: FFSO801007 | C31: UDS,Transducer Cartridge with Luer Lock(Laborie) | D31: =VLOOKUP(B31,[1]마스터!$A$2:$C$34324,3,0) -> DIS130 | E31: Laborie | F31: EA | H31: 630 | J31: =H31*I31 -> 0 | K31: 0.00051480338
A32: 28 | B32: FFSO801006 | C32: Encor,Vaccum Tubing Set(Bard) | D32: =VLOOKUP(B32,[1]마스터!$A$2:$C$34324,3,0) -> SCTUB3000 | E32: Bard | F32: EA | H32: 7 | J32: =H32*I32 -> 0 | K32: 6.6582447e-06
A33: 29 | B33: FFSO801005 | C33: Encor,Rinse Tubing Set(Bard) | D33: =VLOOKUP(B33,[1]마스터!$A$2:$C$34324,3,0) -> RINSETUB | E33: Bard | F33: EA | H33: 7 | J33: =H33*I33 -> 0 | K33: 5.8592554e-06
A34: 30 | B34: FFSO800986 | C34: Ligasure Maryland Jaw#Curved#37cm(Covidien) | D34: =VLOOKUP(B34,[1]마스터!$A$2:$C$34324,3,0) -> LF1937 | E34: Covidien | F34: EA | G34: M2044687 | H34: 45 | J34: =H34*I34 -> 0 | K34: 0.00086223404
A35: 31 | B35: FFSO800984 | C35: 조영제주입기#Pump Tube#XD8003(Ulrich medical) | D35: =VLOOKUP(B35,[1]마스터!$A$2:$C$34324,3,0) -> XD8003 | E35: Ulrich medical | F35: EA | H35: 800 | J35: =H35*I35 -> 0 | K35: 0.00076094225
A36: 32 | B36: FFSO800967 | C36: Cannula With Filter#Adult(Noxmedical) | D36: =VLOOKUP(B36,[1]마스터!$A$2:$C$34324,3,0) -> 552010(BX/40EA) | E36: Noxmedical | F36: BX | H36: 11 | J36: =H36*I36 -> 0 | K36: 0.00013982314
A37: 33 | B37: FFSO800946 | C37: Subdermal Needle#1.5m(Technomed Europe) | D37: =VLOOKUP(B37,[1]마스터!$A$2:$C$34324,3,0) -> S43-638(BX/25EA) | E37: Technomed Europe | F37: BX | H37: 13 | J37: =H37*I37 -> 0 | K37: 7.419187e-05
A38: 34 | B38: FFSO800939 | C38: NObreath Mouth Piece#All Size(Bedfont) | D38: =VLOOKUP(B38,[1]마스터!$A$2:$C$34324,3,0) -> (BX/50EA) | E38: Bedfont | F38: BX | H38: 17 | J38: =H38*I38 -> 0 | K38: 0.00046893066
A39: 35 | B39: FFSO800933 | C39: Cough Assist Breathing Systems#Medium(Intersurgical) | D39: =VLOOKUP(B39,[1]마스터!$A$2:$C$34324,3,0) -> 5001006 | E39: Intersurgical | F39: EA | H39: 600 | J39: =H39*I39 -> 0 | K39: 0.00045656535
A40: 36 | B40: FFSO800929 | C40: Pulsavac Plus Tip#5150-182(Zimmer) | D40: =VLOOKUP(B40,[1]마스터!$A$2:$C$34324,3,0) -> 5150-182(BX/10EA) | E40: Zimmer | F40: BX | H40: 1 | J40: =H40*I40 -> 0 | K40: 1.0621486e-05
A41: 37 | B41: FFSO800928 | C41: Special Autoclavable Oil#40ml(Syntehs) | D41: =VLOOKUP(B41,[1]마스터!$A$2:$C$34324,3,0) -> 519.97 | E41: Synthes | F41: EA | H41: 8 | J41: =H41*I41 -> 0 | K41: 1.0145897e-05
A42: 38 | B42: FFSO800927 | C42: 정액#Oval Burr, 8Flute, 5.0mmx13cm#Arthroscope Shaver(Arthrex) | D42: =VLOOKUP(B42,[1]마스터!$A$2:$C$34324,3,0) -> AR-8500FOE | E42: Arthrex | F42: EA | H42: 15 | J42: =H42*I42 -> 0 | K42: 9.5117782e-05
A43: 39 | B43: FFSO800921 | C43: 정액#Perforator Drill 14mm(Codman) | D43: =VLOOKUP(B43,[1]마스터!$A$2:$C$34324,3,0) -> 26-1221 | E43: Codman | F43: EA | H43: 2 | J43: =H43*I43 -> 0 | K43: 1.0462956e-05
A44: 40 | B44: FFSO800911 | C44: Aquapak Set#340ml(Hudson) | D44: =VLOOKUP(B44,[1]마스터!$A$2:$C$34324,3,0) -> 003-40 | E44: HUDSON | F44: EA | H44: 28976 | J44: =H44*I44 -> 0 | K44: 0.0031737287
A45: 41 | B45: FFSO800908 | C45: FES Pad#50*50mm(휴레브) | D45: =VLOOKUP(B45,[1]마스터!$A$2:$C$34324,3,0) -> HRTS50AP(PK/4EA) | E45: 휴레브 | F45: PK | H45: 270 | J45: =H45*I45 -> 0 | K45: 3.4242401e-05
A46: 42 | B46: FFSO800907 | C46: Encor System Biopsy Probe#10g(Bard) | D46: =VLOOKUP(B46,[1]마스터!$A$2:$C$34324,3,0) -> 10g | E46: Bard | F46: EA | G46: BM0002GU | H46: 5 | J46: =H46*I46 -> 0 | K46: 5.0441248e-05
A47: 43 | B47: FFSO800906 | C47: Encor System Biopsy Probe#7g(Bard) | D47: =VLOOKUP(B47,[1]마스터!$A$2:$C$34324,3,0) -> 7g | E47: Bard | F47: EA | G47: BM0002GU | H47: 2 | J47: =H47*I47 -> 0 | K47: 2.0176499e-05
A48: 44 | B48: FFSO800904 | C48: Gafchromic Film EBT3#8"*10"(Ashland) | D48: =VLOOKUP(B48,[1]마스터!$A$2:$C$34324,3,0) -> 8"*10"(BX/25EA) | E48: Ashland | F48: BX | H48: 1 | J48: =H48*I48 -> 0 | K48: 3.5741227e-05
A49: 45 | B49: FFSO800889 | C49: 정액#Blade＃Micro saws＃185S90-04F (Midas Rex) | D49: =VLOOKUP(B49,[1]마스터!$A$2:$C$34324,3,0) -> 185S90-04F | E49: Medtronic | F49: EA | H49: 5 | J49: =H49*I49 -> 0 | K49: 1.5852964e-05
A50: 46 | B50: FFSO800883 | C50: 항문경Kit#Anoscope#110mm(BX/25EA)(썸텍) | D50: =VLOOKUP(B50,[1]마스터!$A$2:$C$34324,3,0) -> 110mm(BX/25EA) | E50: 썸텍 | F50: BX | H50: 12 | J50: =H50*I50 -> 0 | K50: 4.8423598e-05
A51: 47 | B51: FFSO800882 | C51: Small Jaw＃Ligasure(Covidien)-선별급여 | D51: =VLOOKUP(B51,[1]마스터!$A$2:$C$34324,3,0) -> LF1212 | E51: Covidien | F51: EA | G51: M2045287 | H51: 4 | J51: =H51*I51 -> 0 | K51: 7.2267608e-05
...
